Workbook

Sheet Rekapitulace stavby
A1: Export Komplet | BA1: 2.0 | BB1: ZAMOK | BT1: False | BU1: False | BV1: {17fbd3bf-fa97-44ed-bd4b-fe8f12aaae32}
BS2: 0,01 | BT2: 21
BS3: 0,01 | BT3: 15
D4: REKAPITULACE STAVBY | AS4: v --- níže se nacházejí doplnkové a pomocné údaje k sestavám --- v | BE4: Návod na vyplnění | BS4: 0,001
D5: Kód: | K5: 2026_013 | BE5: Měnit lze pouze buňky se žlutým podbarvením!_x000D_ _x000D_ 1) na prvním listu Rekapitulace stavby vyplňte v sestavě_x000D_ _x000D_ a) Souhrnný list_x000D_ - údaje o Uchazeči_x000D_ (přenesou se do ostatních sestav i v jiných listech)_x000D_ _x000D_ b) Rekapitulace objektů_x000D_ - potřebné Ostatní náklady_x000D_ _x000D_ 2) na vybraných listech vyplňte v sestavě_x000D_ _x000D_ a) Krycí list_x000D_ - údaje o Uchazeči, pokud se liší od údajů o Uchazeči na Souhrnném listu_x000D_ (údaje se přenesou do ostatních sestav v daném listu)_x000D_ _x000D_ b) Rekapitulace rozpočtu_x000D_ - potřebné Ostatní náklady_x000D_ _x000D_ c) Celkové náklady za stavbu_x000D_ - ceny u položek_x000D_ - množství, pokud má žluté podbarvení_x000D_ - a v případě potřeby poznámku (ta je ve skrytém sloupci) | BS5: 0,01
D6: Stavba: | K6: Kongresové centrum - Úprava šaten | BS6: 0,01
D7: KSO: | AK7: CC-CZ: | BS7: 0,01
D8: Místo: | K8: Praha 4 | AK8: Datum: | AN8: 46155 | BS8: 0,01
BS9: 0,01
D10: Zadavatel: | AK10: IČ: | BS10: 0,01
AK11: DIČ: | BS11: 0,01
BS12: 0,01
D13: Uchazeč: | AK13: IČ: | AN13: Vyplň údaj | BS13: 0,01
E14: Vyplň údaj | AK14: DIČ: | AN14: Vyplň údaj | BS14: 0,01
BS15: False
D16: Projektant: | AK16: IČ: | BS16: False
E17: OMEGAproject, s.r.o. | AK17: DIČ: | BS17: True
BS18: 0,01
D19: Zpracovatel: | AK19: IČ: | BS19: 0,01
E20: Vít Včeliš, 724538658, vitvcelis@seznam.cz | AK20: DIČ: | BS20: True
D22: Poznámka:
D26: Cena bez DPH | AK26: =ROUND(AG94,2) -> 0
L28: Sazba daně | W28: Základ daně | AK28: Výše daně
D29: DPH | F29: základní | L29: 0.21 | W29: =ROUND(AZ94, 2) -> 0 | AK29: =ROUND(AV94, 2) -> 0
F30: snížená | L30: 0.15 | W30: =ROUND(BA94, 2) -> 0 | AK30: =ROUND(AW94, 2) -> 0
F31: zákl. přenesená | L31: 0.21 | W31: =ROUND(BB94, 2) -> 0 | AK31: 0
F32: sníž. přenesená | L32: 0.15 | W32: =ROUND(BC94, 2) -> 0 | AK32: 0
F33: nulová | L33: 0 | W33: =ROUND(BD94, 2) -> 0 | AK33: 0
D35: Cena s DPH | T35: v | X35: CZK | AK35: =SUM(AK26:AK33) -> 0
D49: Projektant | AH49: Zpracovatel
D60: Datum a podpis: | V60: Razítko | AH60: Datum a podpis: | AM60: Razítko
D64: Objednavatel | AH64: Uchazeč
D75: Datum a podpis: | V75: Razítko | AH75: Datum a podpis: | AM75: Razítko
C82: REKAPITULACE OBJEKTŮ STAVBY A SOUPISŮ PRACÍ
C84: Kód: | L84: =K5 -> 2026_013
C85: Stavba: | L85: =K6 -> Kongresové centrum - Úprava šaten
C87: Místo: | L87: =IF(K8="","",K8) -> Praha 4 | AI87: Datum: | AM87: =IF(AN8= "","",AN8) -> 46155
C89: Zadavatel: | L89: =IF(E11= "","",E11) | AI89: Projektant: | AM89: =IF(E17="","",E17) -> OMEGAproject, s.r.o. | AS89: Informatívní údaje z listů zakázek
C90: Uchazeč: | L90: =IF(E14= "Vyplň údaj","",E14) | AI90: Zpracovatel: | AM90: =IF(E20="","",E20) -> Vít Včeliš, 724538658, vitvcelis@seznam.cz
C92: Kód | I92: Popis | AG92: Cena bez DPH [CZK] | AN92: Cena s DPH [CZK] | AQ92: Typ | AS92: z toho Ostat._x000D_ náklady [CZK] | AT92: DPH [CZK] | AU92: Normohodiny [h] | AV92: DPH základní [CZK] | AW92: DPH snížená [CZK] | AX92: DPH základní přenesená_x000D_ [CZK] | AY92: DPH snížená přenesená_x000D_ [CZK] | AZ92: Základna_x000D_ DPH základní | BA92: Základna_x000D_ DPH snížená | BB92: Základna_x000D_ DPH zákl. přenesená | BC92: Základna_x000D_ DPH sníž. přenesená | BD92: Základna_x000D_ DPH nulová
C94: Náklady z rozpočtů | AG94: =ROUND(SUM(AG95:AG98),2) -> 0 | AN94: =SUM(AG94,AT94) -> 0 | AS94: =ROUND(SUM(AS95:AS97),2) -> 0 | AT94: =ROUND(SUM(AV94:AW94),2) -> 0 | AU94: =ROUND(SUM(AU95:AU97),5) -> 0 | AV94: =ROUND(AZ94*L29,2) -> 0 | AW94: =ROUND(BA94*L30,2) -> 0 | AX94: =ROUND(BB94*L29,2) -> 0 | AY94: =ROUND(BC94*L30,2) -> 0 | AZ94: =ROUND(SUM(AZ95:AZ97),2) -> 0 | BA94: =ROUND(SUM(BA95:BA97),2) -> 0 | BB94: =ROUND(SUM(BB95:BB97),2) -> 0 | BC94: =ROUND(SUM(BC95:BC97),2) -> 0 | BD94: =ROUND(SUM(BD95:BD97),2) -> 0 | BS94: D | BT94: 0 | BU94: ###NOIMPORT### | BV94: IMPORT | BW94: {17fbd3bf-fa97-44ed-bd4b-fe8f12aaae32} | BX94: {00000000-0000-0000-0000-000000000000}
A95: / | D95: SO-01.A | J95: Architektonické a stavební řešení - šatna A | AG95: ='SO-01.A - Architektonické...'!J30 -> 0 | AN95: =SUM(AG95,AT95) -> 0 | AQ95: STA | AS95: 0 | AT95: =ROUND(SUM(AV95:AW95),2) -> 0 | AU95: ='SO-01.A - Architektonické...'!P130 -> 0 | AV95: ='SO-01.A - Architektonické...'!J33 -> 0 | AW95: ='SO-01.A - Architektonické...'!J34 -> 0 | AX95: ='SO-01.A - Architektonické...'!J35 -> 0 | AY95: ='SO-01.A - Architektonické...'!J36 -> 0 | AZ95: ='SO-01.A - Architektonické...'!F33 -> 0 | BA95: ='SO-01.A - Architektonické...'!F34 -> 0 | BB95: ='SO-01.A - Architektonické...'!F35 -> 0 | BC95: ='SO-01.A - Architektonické...'!F36 -> 0 | BD95: ='SO-01.A - Architektonické...'!F37 -> 0 | BT95: 1 | BV95: IMPORT | BW95: {a0d3cb4c-c407-491d-ac05-56ff04110522} | BX95: {17fbd3bf-fa97-44ed-bd4b-fe8f12aaae32} | CM95: 2
A96: / | D96: SO-01.B | J96: Architektonické a stavební řešení - šatna B | AG96: ='SO-01.B - Architektonické...'!J30 -> 0 | AN96: =SUM(AG96,AT96) -> 0 | AQ96: STA | AS96: 0 | AT96: =ROUND(SUM(AV96:AW96),2) -> 0 | AU96: ='SO-01.B - Architektonické...'!P128 -> 0 | AV96: ='SO-01.B - Architektonické...'!J33 -> 0 | AW96: ='SO-01.B - Architektonické...'!J34 -> 0 | AX96: ='SO-01.B - Architektonické...'!J35 -> 0 | AY96: ='SO-01.B - Architektonické...'!J36 -> 0 | AZ96: ='SO-01.B - Architektonické...'!F33 -> 0 | BA96: ='SO-01.B - Architektonické...'!F34 -> 0 | BB96: ='SO-01.B - Architektonické...'!F35 -> 0 | BC96: ='SO-01.B - Architektonické...'!F36 -> 0 | BD96: ='SO-01.B - Architektonické...'!F37 -> 0 | BT96: 1 | BV96: IMPORT | BW96: {3d505684-038d-4091-9079-d5f80cda9b41} | BX96: {17fbd3bf-fa97-44ed-bd4b-fe8f12aaae32} | CM96: 2
A97: / | D97: SO-01.C | J97: Architektonické a stavební řešení - šatna C | AG97: ='SO-01.C - Architektonické...'!J30 -> 0 | AN97: =SUM(AG97,AT97) -> 0 | AQ97: STA | AS97: 0 | AT97: =ROUND(SUM(AV97:AW97),2) -> 0 | AU97: ='SO-01.C - Architektonické...'!P128 -> 0 | AV97: ='SO-01.C - Architektonické...'!J33 -> 0 | AW97: ='SO-01.C - Architektonické...'!J34 -> 0 | AX97: ='SO-01.C - Architektonické...'!J35 -> 0 | AY97: ='SO-01.C - Architektonické...'!J36 -> 0 | AZ97: ='SO-01.C - Architektonické...'!F33 -> 0 | BA97: ='SO-01.C - Architektonické...'!F34 -> 0 | BB97: ='SO-01.C - Architektonické...'!F35 -> 0 | BC97: ='SO-01.C - Architektonické...'!F36 -> 0 | BD97: ='SO-01.C - Architektonické...'!F37 -> 0 | BT97: 1 | BV97: IMPORT | BW97: {94d2cd69-58ec-4f8b-a70a-ab28b99518a1} | BX97: {17fbd3bf-fa97-44ed-bd4b-fe8f12aaae32} | CM97: 2
J98: Odstranění azbestu | AG98: ='Odstranění azbestu'!F47 -> 0 | AN98: =AG98*1.21 -> 0

Sheet SO-01.A - Architektonické...
AT2: {a0d3cb4c-c407-491d-ac05-56ff04110522}
AT3: 2
D4: KRYCÍ LIST SOUPISU PRACÍ | M4: v --- níže se nacházejí doplnkové a pomocné údaje k sestavám --- v | AT4: False
D6: Stavba:
E7: ='Rekapitulace stavby'!K6 -> Kongresové centrum - Úprava šaten
D8: Objekt:
E9: SO-01.A - Architektonické a stavební řešení - šatna A
D11: KSO: | I11: CC-CZ:
D12: Místo: | F12: Praha 4 | I12: Datum: | J12: ='Rekapitulace stavby'!AN8 -> 46155
D14: Zadavatel: | I14: IČ: | J14: =IF('Rekapitulace stavby'!AN10="","",'Rekapitulace stavby'!AN10)
E15: =IF('Rekapitulace stavby'!E11="","",'Rekapitulace stavby'!E11) | I15: DIČ: | J15: =IF('Rekapitulace stavby'!AN11="","",'Rekapitulace stavby'!AN11)
D17: Uchazeč: | I17: IČ: | J17: ='Rekapitulace stavby'!AN13 -> Vyplň údaj
E18: ='Rekapitulace stavby'!E14 -> Vyplň údaj | I18: DIČ: | J18: ='Rekapitulace stavby'!AN14 -> Vyplň údaj
D20: Projektant: | I20: IČ:
E21: OMEGAproject, s.r.o. | I21: DIČ:
D23: Zpracovatel: | I23: IČ:
E24: Vít Včeliš, 724538658, vitvcelis@seznam.cz | I24: DIČ:
D26: Poznámka:
D30: Cena bez DPH | J30: =ROUND(J130, 2) -> 0
F32: Základ daně | I32: Sazba daně | J32: Výše daně
D33: DPH | E33: základní | F33: =ROUND((SUM(BE130:BE251)), 2) -> 0 | I33: 0.21 | J33: =ROUND(((SUM(BE130:BE251))*I33), 2) -> 0
E34: snížená | F34: =ROUND((SUM(BF130:BF251)), 2) -> 0 | I34: 0.15 | J34: =ROUND(((SUM(BF130:BF251))*I34), 2) -> 0
E35: zákl. přenesená | F35: =ROUND((SUM(BG130:BG251)), 2) -> 0 | I35: 0.21 | J35: =0 -> 0
E36: sníž. přenesená | F36: =ROUND((SUM(BH130:BH251)), 2) -> 0 | I36: 0.15 | J36: =0 -> 0
E37: nulová | F37: =ROUND((SUM(BI130:BI251)), 2) -> 0 | I37: 0 | J37: =0 -> 0
D39: Cena s DPH | G39: v | H39: CZK | J39: =SUM(J30:J37) -> 0
D50: Projektant | G50: Zpracovatel
D61: Datum a podpis: | F61: Razítko | G61: Datum a podpis: | J61: Razítko
D65: Objednavatel | G65: Uchazeč
D76: Datum a podpis: | F76: Razítko | G76: Datum a podpis: | J76: Razítko
C82: REKAPITULACE ČLENĚNÍ SOUPISU PRACÍ
C84: Stavba:
E85: =E7 -> Kongresové centrum - Úprava šaten
C86: Objekt:
E87: =E9 -> SO-01.A - Architektonické a stavební řešení - šatna A
C89: Místo: | F89: =F12 -> Praha 4 | I89: Datum: | J89: =IF(J12="","",J12) -> 46155
C91: Zadavatel: | F91: =E15 | I91: Projektant: | J91: =E21 -> OMEGAproject, s.r.o.
C92: Uchazeč: | F92: =IF(E18="","",E18) -> Vyplň údaj | I92: Zpracovatel: | J92: =E24 -> Vít Včeliš, 724538658, vitvcelis@seznam.cz
C94: Kód dílu - Popis | J94: Cena celkem [CZK]
C96: Náklady ze soupisu prací | J96: =J130 -> 0 | AU96: -1
D97: HSV - Práce a dodávky HSV | J97: =J131 -> 0
D98: 3 - Svislé a kompletní konstrukce | J98: =J132 -> 0
D99: 6 - Úpravy povrchů, podlahy a osazování výplní | J99: =J136 -> 0
D100: 9 - Ostatní konstrukce a práce-bourání | J100: =J144 -> 0
D101: 997 - Doprava suti a vybouraných hmot | J101: =J151 -> 0
D102: PSV - Práce a dodávky PSV | J102: =J156 -> 0
D103: 741 - Elektroinstalace - silnoproud | J103: =J157 -> 0
D104: 763 - Konstrukce suché výstavby | J104: =J159 -> 0
D105: 766 - Konstrukce truhlářské | J105: =J174 -> 0
D106: 767 - Konstrukce zámečnické | J106: =J206 -> 0
D107: 784 - Dokončovací práce | J107: =J230 -> 0
D108: 786 - Dokončovací práce - stínění a čalounické úpravy | J108: =J238 -> 0
D109: OST - Ostatní | J109: =J242 -> 0
D110: OST1 - Ostatní náklady | J110: =J243 -> 0
C117: SOUPIS PRACÍ
C119: Stavba:
E120: =E7 -> Kongresové centrum - Úprava šaten
C121: Objekt:
E122: =E9 -> SO-01.A - Architektonické a stavební řešení - šatna A
C124: Místo: | F124: =F12 -> Praha 4 | I124: Datum: | J124: =IF(J12="","",J12) -> 46155
C126: Zadavatel: | F126: =E15 | I126: Projektant: | J126: =E21 -> OMEGAproject, s.r.o.
C127: Uchazeč: | F127: =IF(E18="","",E18) -> Vyplň údaj | I127: Zpracovatel: | J127: =E24 -> Vít Včeliš, 724538658, vitvcelis@seznam.cz
C129: PČ | D129: Typ | E129: Kód | F129: Popis | G129: MJ | H129: Množství | I129: J.cena [CZK] | J129: Cena celkem [CZK] | K129: Cenová soustava | N129: DPH | O129: J. Nh [h] | P129: Nh celkem [h] | Q129: J. hmotnost [t] | R129: Hmotnost celkem [t] | S129: J. suť [t] | T129: Suť Celkem [t]
C130: Náklady soupisu celkem | J130: =BK130 -> 0 | P130: =P131+P156+P242 -> 0 | R130: =R131+R156+R242 -> 6.3318846 | T130: =T131+T156+T242 -> 3.8275536 | AT130: D | AU130: -1 | BK130: =BK131+BK156+BK242 -> 0
D131: D | E131: HSV | F131: Práce a dodávky HSV | J131: =BK131 -> 0 | P131: =P132+P136+P144+P151 -> 0 | R131: =R132+R136+R144+R151 -> 0.6375662 | T131: =T132+T136+T144+T151 -> 1.12125 | AR131: 1 | AT131: D | AU131: 0 | AY131: ROZPOCET | BK131: =BK132+BK136+BK144+BK151 -> 0
D132: D | E132: 3 | F132: Svislé a kompletní konstrukce | J132: =BK132 -> 0 | P132: =SUM(P133:P135) -> 0 | R132: =SUM(R133:R135) -> 0.03649344 | T132: =SUM(T133:T135) -> 0 | AR132: 1 | AT132: D | AU132: 1 | AY132: ROZPOCET | BK132: =SUM(BK133:BK135) -> 0
C133: 1 | D133: K | E133: 317941121 | F133: Osazování ocelových válcovaných nosníků na zdivu I, IE, U, UE nebo L výšky do 120 mm | G133: t | H133: 0.032 | J133: =ROUND(I133*H133,2) -> 0 | K133: CS ÚRS 2026 01 | N133: základní | P133: =O133*H133 -> 0 | Q133: 0.14042 | R133: =Q133*H133 -> 0.00449344 | S133: 0 | T133: =S133*H133 -> 0 | AR133: 4 | AT133: K | AU133: 2 | AY133: ROZPOCET | BE133: =IF(N133="základní",J133,0) -> 0 | BF133: =IF(N133="snížená",J133,0) -> 0 | BG133: =IF(N133="zákl. přenesená",J133,0) -> 0 | BH133: =IF(N133="sníž. přenesená",J133,0) -> 0 | BI133: =IF(N133="nulová",J133,0) -> 0 | BJ133: 1 | BK133: =ROUND(I133*H133,2) -> 0 | BL133: 4 | BM133: -324570392
C134: 2 | D134: M | E134: 13010742 | F134: ocel profilová jakost S235JR (11 375) průřez IPE 100 | G134: t | H134: 0.032 | J134: =ROUND(I134*H134,2) -> 0 | K134: CS ÚRS 2026 01 | N134: základní | P134: =O134*H134 -> 0 | Q134: 1 | R134: =Q134*H134 -> 0.032 | S134: 0 | T134: =S134*H134 -> 0 | AR134: 8 | AT134: M | AU134: 2 | AY134: ROZPOCET | BE134: =IF(N134="základní",J134,0) -> 0 | BF134: =IF(N134="snížená",J134,0) -> 0 | BG134: =IF(N134="zákl. přenesená",J134,0) -> 0 | BH134: =IF(N134="sníž. přenesená",J134,0) -> 0 | BI134: =IF(N134="nulová",J134,0) -> 0 | BJ134: 1 | BK134: =ROUND(I134*H134,2) -> 0 | BL134: 4 | BM134: 763378245
D135: VV | F135: "ocelový překlad" (3*1,20)*8,10" kg/bm "/1000*1,10 | H135: 0.032 | AT135: VV | AU135: 2 | AV135: 2 | AW135: True | AX135: 1 | AY135: ROZPOCET
D136: D | E136: 6 | F136: Úpravy povrchů, podlahy a osazování výplní | J136: =BK136 -> 0 | P136: =SUM(P137:P143) -> 0 | R136: =SUM(R137:R143) -> 0.57805276 | T136: =SUM(T137:T143) -> 0 | AR136: 1 | AT136: D | AU136: 1 | AY136: ROZPOCET | BK136: =SUM(BK137:BK143) -> 0
C137: 3 | D137: K | E137: 612315302 | F137: Vápenná štuková omítka ostění nebo nadpraží | G137: m2 | H137: 4.012 | J137: =ROUND(I137*H137,2) -> 0 | K137: CS ÚRS 2026 01 | N137: základní | P137: =O137*H137 -> 0 | Q137: 0.03273 | R137: =Q137*H137 -> 0.13131276 | S137: 0 | T137: =S137*H137 -> 0 | AR137: 4 | AT137: K | AU137: 2 | AY137: ROZPOCET | BE137: =IF(N137="základní",J137,0) -> 0 | BF137: =IF(N137="snížená",J137,0) -> 0 | BG137: =IF(N137="zákl. přenesená",J137,0) -> 0 | BH137: =IF(N137="sníž. přenesená",J137,0) -> 0 | BI137: =IF(N137="nulová",J137,0) -> 0 | BJ137: 1 | BK137: =ROUND(I137*H137,2) -> 0 | BL137: 4 | BM137: 214306306
D138: VV | F138: 0,30*(2*2,07+0,90) | H138: 1.512 | AT138: VV | AU138: 2 | AV138: 2 | AW138: True | AX138: 0 | AY138: ROZPOCET
D139: VV | F139: "okolní plochy" 2,50 | H139: 2.5 | AT139: VV | AU139: 2 | AV139: 2 | AW139: True | AX139: 0 | AY139: ROZPOCET
D140: VV | F140: Součet | H140: 4.012 | AT140: VV | AU140: 2 | AV140: 4 | AW140: True | AX140: 1 | AY140: ROZPOCET
C141: 4 | D141: K | E141: 642945111 | F141: Osazování protipožárních nebo protiplynových zárubní dveří jednokřídlových do 2,5 m2 | G141: kus | H141: 1 | J141: =ROUND(I141*H141,2) -> 0 | K141: CS ÚRS 2026 01 | N141: základní | P141: =O141*H141 -> 0 | Q141: 0.42153 | R141: =Q141*H141 -> 0.42153 | S141: 0 | T141: =S141*H141 -> 0 | AR141: 4 | AT141: K | AU141: 2 | AY141: ROZPOCET | BE141: =IF(N141="základní",J141,0) -> 0 | BF141: =IF(N141="snížená",J141,0) -> 0 | BG141: =IF(N141="zákl. přenesená",J141,0) -> 0 | BH141: =IF(N141="sníž. přenesená",J141,0) -> 0 | BI141: =IF(N141="nulová",J141,0) -> 0 | BJ141: 1 | BK141: =ROUND(I141*H141,2) -> 0 | BL141: 4 | BM141: -840186236
C142: 5 | D142: M | E142: 55331579 | F142: zárubeň jednokřídlá ocelová pro zdění s protipožární úpravou tl stěny 260-300mm rozměru 1100/1970, 2100mm | G142: kus | H142: 1 | J142: =ROUND(I142*H142,2) -> 0 | K142: CS ÚRS 2026 01 | N142: základní | P142: =O142*H142 -> 0 | Q142: 0.02521 | R142: =Q142*H142 -> 0.02521 | S142: 0 | T142: =S142*H142 -> 0 | AR142: 8 | AT142: M | AU142: 2 | AY142: ROZPOCET | BE142: =IF(N142="základní",J142,0) -> 0 | BF142: =IF(N142="snížená",J142,0) -> 0 | BG142: =IF(N142="zákl. přenesená",J142,0) -> 0 | BH142: =IF(N142="sníž. přenesená",J142,0) -> 0 | BI142: =IF(N142="nulová",J142,0) -> 0 | BJ142: 1 | BK142: =ROUND(I142*H142,2) -> 0 | BL142: 4 | BM142: 1820901845
D143: VV | F143: "včetně povrchové úpravy" 1 | H143: 1 | AT143: VV | AU143: 2 | AV143: 2 | AW143: True | AX143: 1 | AY143: ROZPOCET
D144: D | E144: 9 | F144: Ostatní konstrukce a práce-bourání | J144: =BK144 -> 0 | P144: =SUM(P145:P150) -> 0 | R144: =SUM(R145:R150) -> 0.02302 | T144: =SUM(T145:T150) -> 1.12125 | AR144: 1 | AT144: D | AU144: 1 | AY144: ROZPOCET | BK144: =SUM(BK145:BK150) -> 0
C145: 6 | D145: K | E145: 962032240 | F145: Bourání zdiva z cihel pálených nebo vápenopískových na MC do 1 m3 | G145: m3 | H145: 0.559 | J145: =ROUND(I145*H145,2) -> 0 | K145: CS ÚRS 2026 01 | N145: základní | P145: =O145*H145 -> 0 | Q145: 0 | R145: =Q145*H145 -> 0 | S145: 1.95 | T145: =S145*H145 -> 1.09005 | AR145: 4 | AT145: K | AU145: 2 | AY145: ROZPOCET | BE145: =IF(N145="základní",J145,0) -> 0 | BF145: =IF(N145="snížená",J145,0) -> 0 | BG145: =IF(N145="zákl. přenesená",J145,0) -> 0 | BH145: =IF(N145="sníž. přenesená",J145,0) -> 0 | BI145: =IF(N145="nulová",J145,0) -> 0 | BJ145: 1 | BK145: =ROUND(I145*H145,2) -> 0 | BL145: 4 | BM145: -1558331474
D146: VV | F146: "otvor pro nové dveře" 0,30*0,90*2,07 | H146: 0.559 | AT146: VV | AU146: 2 | AV146: 2 | AW146: True | AX146: 1 | AY146: ROZPOCET
C147: 7 | D147: K | E147: 974031226 | F147: Vysekání rýh ve zdivu cihelném u stropu hl do 30 mm š do 250 mm | G147: m | H147: 2.4 | J147: =ROUND(I147*H147,2) -> 0 | K147: CS ÚRS 2026 01 | N147: základní | P147: =O147*H147 -> 0 | Q147: 0 | R147: =Q147*H147 -> 0 | S147: 0.013 | T147: =S147*H147 -> 0.0312 | AR147: 4 | AT147: K | AU147: 2 | AY147: ROZPOCET | BE147: =IF(N147="základní",J147,0) -> 0 | BF147: =IF(N147="snížená",J147,0) -> 0 | BG147: =IF(N147="zákl. přenesená",J147,0) -> 0 | BH147: =IF(N147="sníž. přenesená",J147,0) -> 0 | BI147: =IF(N147="nulová",J147,0) -> 0 | BJ147: 1 | BK147: =ROUND(I147*H147,2) -> 0 | BL147: 4 | BM147: -262307500
D148: VV | F148: 2*1,20 | H148: 2.4 | AT148: VV | AU148: 2 | AV148: 2 | AW148: True | AX148: 1 | AY148: ROZPOCET
C149: 8 | D149: K | E149: 953943211 | F149: Osazování hasicího přístroje | G149: kus | H149: 2 | J149: =ROUND(I149*H149,2) -> 0 | K149: CS ÚRS 2026 01 | N149: základní | P149: =O149*H149 -> 0 | Q149: 0.00011 | R149: =Q149*H149 -> 0.00022 | S149: 0 | T149: =S149*H149 -> 0 | AR149: 4 | AT149: K | AU149: 2 | AY149: ROZPOCET | BE149: =IF(N149="základní",J149,0) -> 0 | BF149: =IF(N149="snížená",J149,0) -> 0 | BG149: =IF(N149="zákl. přenesená",J149,0) -> 0 | BH149: =IF(N149="sníž. přenesená",J149,0) -> 0 | BI149: =IF(N149="nulová",J149,0) -> 0 | BJ149: 1 | BK149: =ROUND(I149*H149,2) -> 0 | BL149: 4 | BM149: 395825114
C150: 9 | D150: M | E150: 44932003 | F150: přístroj hasicí ruční práškový s ochranným štítem hasební schopnost 21A, 113B, C | G150: kus | H150: 2 | J150: =ROUND(I150*H150,2) -> 0 | K150: CS ÚRS 2026 01 | N150: základní | P150: =O150*H150 -> 0 | Q150: 0.0114 | R150: =Q150*H150 -> 0.0228 | S150: 0 | T150: =S150*H150 -> 0 | AR150: 8 | AT150: M | AU150: 2 | AY150: ROZPOCET | BE150: =IF(N150="základní",J150,0) -> 0 | BF150: =IF(N150="snížená",J150,0) -> 0 | BG150: =IF(N150="zákl. přenesená",J150,0) -> 0 | BH150: =IF(N150="sníž. přenesená",J150,0) -> 0 | BI150: =IF(N150="nulová",J150,0) -> 0 | BJ150: 1 | BK150: =ROUND(I150*H150,2) -> 0 | BL150: 4 | BM150: -1453702743
D151: D | E151: 997 | F151: Doprava suti a vybouraných hmot | J151: =BK151 -> 0 | P151: =SUM(P152:P155) -> 0 | R151: =SUM(R152:R155) -> 0 | T151: =SUM(T152:T155) -> 0 | AR151: 1 | AT151: D | AU151: 1 | AY151: ROZPOCET | BK151: =SUM(BK152:BK155) -> 0
C152: 10 | D152: K | E152: 997013212 | F152: Vnitrostaveništní doprava suti a vybouraných hmot pro budovy v přes 6 do 9 m ručně | G152: t | H152: 3.828 | J152: =ROUND(I152*H152,2) -> 0 | K152: CS ÚRS 2026 01 | N152: základní | P152: =O152*H152 -> 0 | Q152: 0 | R152: =Q152*H152 -> 0 | S152: 0 | T152: =S152*H152 -> 0 | AR152: 4 | AT152: K | AU152: 2 | AY152: ROZPOCET | BE152: =IF(N152="základní",J152,0) -> 0 | BF152: =IF(N152="snížená",J152,0) -> 0 | BG152: =IF(N152="zákl. přenesená",J152,0) -> 0 | BH152: =IF(N152="sníž. přenesená",J152,0) -> 0 | BI152: =IF(N152="nulová",J152,0) -> 0 | BJ152: 1 | BK152: =ROUND(I152*H152,2) -> 0 | BL152: 4 | BM152: 1861838933
C153: 11 | D153: K | E153: 997013501 | F153: Odvoz suti a vybouraných hmot na skládku nebo meziskládku do 1 km se složením | G153: t | H153: 3.828 | J153: =ROUND(I153*H153,2) -> 0 | K153: CS ÚRS 2026 01 | N153: základní | P153: =O153*H153 -> 0 | Q153: 0 | R153: =Q153*H153 -> 0 | S153: 0 | T153: =S153*H153 -> 0 | AR153: 4 | AT153: K | AU153: 2 | AY153: ROZPOCET | BE153: =IF(N153="základní",J153,0) -> 0 | BF153: =IF(N153="snížená",J153,0) -> 0 | BG153: =IF(N153="zákl. přenesená",J153,0) -> 0 | BH153: =IF(N153="sníž. přenesená",J153,0) -> 0 | BI153: =IF(N153="nulová",J153,0) -> 0 | BJ153: 1 | BK153: =ROUND(I153*H153,2) -> 0 | BL153: 4 | BM153: -341042260
C154: 12 | D154: K | E154: 997013509 | F154: Příplatek k odvozu suti a vybouraných hmot na skládku ZKD 1 km přes 1 km | G154: t | H154: 3.828 | J154: =ROUND(I154*H154,2) -> 0 | K154: CS ÚRS 2026 01 | N154: základní | P154: =O154*H154 -> 0 | Q154: 0 | R154: =Q154*H154 -> 0 | S154: 0 | T154: =S154*H154 -> 0 | AR154: 4 | AT154: K | AU154: 2 | AY154: ROZPOCET | BE154: =IF(N154="základní",J154,0) -> 0 | BF154: =IF(N154="snížená",J154,0) -> 0 | BG154: =IF(N154="zákl. přenesená",J154,0) -> 0 | BH154: =IF(N154="sníž. přenesená",J154,0) -> 0 | BI154: =IF(N154="nulová",J154,0) -> 0 | BJ154: 1 | BK154: =ROUND(I154*H154,2) -> 0 | BL154: 4 | BM154: -429869976
C155: 13 | D155: K | E155: 997013814 | F155: Poplatek za uložení na skládce (skládkovné) stavebního odpadu izolací kód odpadu 17 06 04 | G155: t | H155: 2.706 | J155: =ROUND(I155*H155,2) -> 0 | K155: CS ÚRS 2026 01 | N155: základní | P155: =O155*H155 -> 0 | Q155: 0 | R155: =Q155*H155 -> 0 | S155: 0 | T155: =S155*H155 -> 0 | AR155: 4 | AT155: K | AU155: 2 | AY155: ROZPOCET | BE155: =IF(N155="základní",J155,0) -> 0 | BF155: =IF(N155="snížená",J155,0) -> 0 | BG155: =IF(N155="zákl. přenesená",J155,0) -> 0 | BH155: =IF(N155="sníž. přenesená",J155,0) -> 0 | BI155: =IF(N155="nulová",J155,0) -> 0 | BJ155: 1 | BK155: =ROUND(I155*H155,2) -> 0 | BL155: 4 | BM155: -1530923519
D156: D | E156: PSV | F156: Práce a dodávky PSV | J156: =BK156 -> 0 | P156: =P157+P159+P174+P206+P230+P238 -> 0 | R156: =R157+R159+R174+R206+R230+R238 -> 5.6943184 | T156: =T157+T159+T174+T206+T230+T238 -> 2.7063036 | AR156: 2 | AT156: D | AU156: 0 | AY156: ROZPOCET | BK156: =BK157+BK159+BK174+BK206+BK230+BK238 -> 0
D157: D | E157: 741 | F157: Elektroinstalace - silnoproud | J157: =BK157 -> 0 | P157: =P158 -> 0 | R157: =R158 -> 0 | T157: =T158 -> 0.0008 | AR157: 2 | AT157: D | AU157: 1 | AY157: ROZPOCET | BK157: =BK158 -> 0
C158: 14 | D158: K | E158: 7413718R1 | F158: Demontáž svítidel a čidel, opětovná zpětná montáž | G158: kpl | H158: 1 | J158: =ROUND(I158*H158,2) -> 0 | N158: základní | P158: =O158*H158 -> 0 | Q158: 0 | R158: =Q158*H158 -> 0 | S158: 0.0008 | T158: =S158*H158 -> 0.0008 | AR158: 16 | AT158: K | AU158: 2 | AY158: ROZPOCET | BE158: =IF(N158="základní",J158,0) -> 0 | BF158: =IF(N158="snížená",J158,0) -> 0 | BG158: =IF(N158="zákl. přenesená",J158,0) -> 0 | BH158: =IF(N158="sníž. přenesená",J158,0) -> 0 | BI158: =IF(N158="nulová",J158,0) -> 0 | BJ158: 1 | BK158: =ROUND(I158*H158,2) -> 0 | BL158: 16 | BM158: -712386996
D159: D | E159: 763 | F159: Konstrukce suché výstavby | J159: =BK159 -> 0 | P159: =SUM(P160:P173) -> 0 | R159: =SUM(R160:R173) -> 4.0748709 | T159: =SUM(T160:T173) -> 0.1635543 | AR159: 2 | AT159: D | AU159: 1 | AY159: ROZPOCET | BK159: =SUM(BK160:BK173) -> 0
C160: 15 | D160: K | E160: 763431802 | F160: Demontáž minerálního podhledu zavěšeného na polozapuštěném roštu | G160: m2 | H160: 77.883 | J160: =ROUND(I160*H160,2) -> 0 | K160: CS ÚRS 2026 01 | N160: základní | P160: =O160*H160 -> 0 | Q160: 0 | R160: =Q160*H160 -> 0 | S160: 0.0021 | T160: =S160*H160 -> 0.1635543 | AR160: 16 | AT160: K | AU160: 2 | AY160: ROZPOCET | BE160: =IF(N160="základní",J160,0) -> 0 | BF160: =IF(N160="snížená",J160,0) -> 0 | BG160: =IF(N160="zákl. přenesená",J160,0) -> 0 | BH160: =IF(N160="sníž. přenesená",J160,0) -> 0 | BI160: =IF(N160="nulová",J160,0) -> 0 | BJ160: 1 | BK160: =ROUND(I160*H160,2) -> 0 | BL160: 16 | BM160: -427488048
D161: VV | F161: 5,05*(6,57+4,52) | H161: 56.005 | AT161: VV | AU161: 2 | AV161: 2 | AW161: True | AX161: 0 | AY161: ROZPOCET
D162: VV | F162: 3,33*6,57 | H162: 21.878 | AT162: VV | AU162: 2 | AV162: 2 | AW162: True | AX162: 0 | AY162: ROZPOCET
D163: VV | F163: Součet | H163: 77.883 | AT163: VV | AU163: 2 | AV163: 4 | AW163: True | AX163: 1 | AY163: ROZPOCET
C164: 16 | D164: K | E164: 763132231.KNF | F164: SDK podhled samostatný požární předěl D112 3x RED PIANO (DF) 15 mm TI 2x40 mm 40 kg/m3 EI Z/S 90/90 dvouvrstvá spodní kce CD+UD EI90DP1 | G164: m2 | H164: 77.883 | J164: =ROUND(I164*H164,2) -> 0 | N164: základní | P164: =O164*H164 -> 0 | Q164: 0.04893 | R164: =Q164*H164 -> 3.8108152 | S164: 0 | T164: =S164*H164 -> 0 | AR164: 16 | AT164: K | AU164: 2 | AY164: ROZPOCET | BE164: =IF(N164="základní",J164,0) -> 0 | BF164: =IF(N164="snížená",J164,0) -> 0 | BG164: =IF(N164="zákl. přenesená",J164,0) -> 0 | BH164: =IF(N164="sníž. přenesená",J164,0) -> 0 | BI164: =IF(N164="nulová",J164,0) -> 0 | BJ164: 1 | BK164: =ROUND(I164*H164,2) -> 0 | BL164: 16 | BM164: 655672412
D165: VV | F165: 5,05*(6,57+4,52) | H165: 56.005 | AT165: VV | AU165: 2 | AV165: 2 | AW165: True | AX165: 0 | AY165: ROZPOCET
D166: VV | F166: 3,33*6,57 | H166: 21.878 | AT166: VV | AU166: 2 | AV166: 2 | AW166: True | AX166: 0 | AY166: ROZPOCET
...

Sheet SO-01.B - Architektonické...
AT2: {3d505684-038d-4091-9079-d5f80cda9b41}
AT3: 2
D4: KRYCÍ LIST SOUPISU PRACÍ | M4: v --- níže se nacházejí doplnkové a pomocné údaje k sestavám --- v | AT4: False
D6: Stavba:
E7: ='Rekapitulace stavby'!K6 -> Kongresové centrum - Úprava šaten
D8: Objekt:
E9: SO-01.B - Architektonické a stavební řešení - šatna B
D11: KSO: | I11: CC-CZ:
D12: Místo: | F12: Praha 4 | I12: Datum: | J12: ='Rekapitulace stavby'!AN8 -> 46155
D14: Zadavatel: | I14: IČ: | J14: =IF('Rekapitulace stavby'!AN10="","",'Rekapitulace stavby'!AN10)
E15: =IF('Rekapitulace stavby'!E11="","",'Rekapitulace stavby'!E11) | I15: DIČ: | J15: =IF('Rekapitulace stavby'!AN11="","",'Rekapitulace stavby'!AN11)
D17: Uchazeč: | I17: IČ: | J17: ='Rekapitulace stavby'!AN13 -> Vyplň údaj
E18: ='Rekapitulace stavby'!E14 -> Vyplň údaj | I18: DIČ: | J18: ='Rekapitulace stavby'!AN14 -> Vyplň údaj
D20: Projektant: | I20: IČ:
E21: OMEGAproject, s.r.o. | I21: DIČ:
D23: Zpracovatel: | I23: IČ:
E24: Vít Včeliš, 724538658, vitvcelis@seznam.cz | I24: DIČ:
D26: Poznámka:
D30: Cena bez DPH | J30: =ROUND(J128, 2) -> 0
F32: Základ daně | I32: Sazba daně | J32: Výše daně
D33: DPH | E33: základní | F33: =ROUND((SUM(BE128:BE212)), 2) -> 0 | I33: 0.21 | J33: =ROUND(((SUM(BE128:BE212))*I33), 2) -> 0
E34: snížená | F34: =ROUND((SUM(BF128:BF212)), 2) -> 0 | I34: 0.15 | J34: =ROUND(((SUM(BF128:BF212))*I34), 2) -> 0
E35: zákl. přenesená | F35: =ROUND((SUM(BG128:BG212)), 2) -> 0 | I35: 0.21 | J35: =0 -> 0
E36: sníž. přenesená | F36: =ROUND((SUM(BH128:BH212)), 2) -> 0 | I36: 0.15 | J36: =0 -> 0
E37: nulová | F37: =ROUND((SUM(BI128:BI212)), 2) -> 0 | I37: 0 | J37: =0 -> 0
D39: Cena s DPH | G39: v | H39: CZK | J39: =SUM(J30:J37) -> 0
D50: Projektant | G50: Zpracovatel
D61: Datum a podpis: | F61: Razítko | G61: Datum a podpis: | J61: Razítko
D65: Objednavatel | G65: Uchazeč
D76: Datum a podpis: | F76: Razítko | G76: Datum a podpis: | J76: Razítko
C82: REKAPITULACE ČLENĚNÍ SOUPISU PRACÍ
C84: Stavba:
E85: =E7 -> Kongresové centrum - Úprava šaten
C86: Objekt:
E87: =E9 -> SO-01.B - Architektonické a stavební řešení - šatna B
C89: Místo: | F89: =F12 -> Praha 4 | I89: Datum: | J89: =IF(J12="","",J12) -> 46155
C91: Zadavatel: | F91: =E15 | I91: Projektant: | J91: =E21 -> OMEGAproject, s.r.o.
C92: Uchazeč: | F92: =IF(E18="","",E18) -> Vyplň údaj | I92: Zpracovatel: | J92: =E24 -> Vít Včeliš, 724538658, vitvcelis@seznam.cz
C94: Kód dílu - Popis | J94: Cena celkem [CZK]
C96: Náklady ze soupisu prací | J96: =J128 -> 0 | AU96: -1
D97: HSV - Práce a dodávky HSV | J97: =J129 -> 0
D98: 9 - Ostatní konstrukce a práce-bourání | J98: =J130 -> 0
D99: 997 - Doprava suti a vybouraných hmot | J99: =J133 -> 0
D100: PSV - Práce a dodávky PSV | J100: =J138 -> 0
D101: 741 - Elektroinstalace - silnoproud | J101: =J139 -> 0
D102: 763 - Konstrukce suché výstavby | J102: =J141 -> 0
D103: 766 - Konstrukce truhlářské | J103: =J150 -> 0
D104: 767 - Konstrukce zámečnické | J104: =J174 -> 0
D105: 784 - Dokončovací práce | J105: =J195 -> 0
D106: 786 - Dokončovací práce - stínění a čalounické úpravy | J106: =J201 -> 0
D107: OST - Ostatní | J107: =J203 -> 0
D108: OST1 - Ostatní náklady | J108: =J204 -> 0
C115: SOUPIS PRACÍ
C117: Stavba:
E118: =E7 -> Kongresové centrum - Úprava šaten
C119: Objekt:
E120: =E9 -> SO-01.B - Architektonické a stavební řešení - šatna B
C122: Místo: | F122: =F12 -> Praha 4 | I122: Datum: | J122: =IF(J12="","",J12) -> 46155
C124: Zadavatel: | F124: =E15 | I124: Projektant: | J124: =E21 -> OMEGAproject, s.r.o.
C125: Uchazeč: | F125: =IF(E18="","",E18) -> Vyplň údaj | I125: Zpracovatel: | J125: =E24 -> Vít Včeliš, 724538658, vitvcelis@seznam.cz
C127: PČ | D127: Typ | E127: Kód | F127: Popis | G127: MJ | H127: Množství | I127: J.cena [CZK] | J127: Cena celkem [CZK] | K127: Cenová soustava | N127: DPH | O127: J. Nh [h] | P127: Nh celkem [h] | Q127: J. hmotnost [t] | R127: Hmotnost celkem [t] | S127: J. suť [t] | T127: Suť Celkem [t]
C128: Náklady soupisu celkem | J128: =BK128 -> 0 | P128: =P129+P138+P203 -> 0 | R128: =R129+R138+R203 -> 2.2216292 | T128: =T129+T138+T203 -> 1.2052577 | AT128: D | AU128: -1 | BK128: =BK129+BK138+BK203 -> 0
D129: D | E129: HSV | F129: Práce a dodávky HSV | J129: =BK129 -> 0 | P129: =P130+P133 -> 0 | R129: =R130+R133 -> 0.02302 | T129: =T130+T133 -> 0 | AR129: 1 | AT129: D | AU129: 0 | AY129: ROZPOCET | BK129: =BK130+BK133 -> 0
D130: D | E130: 9 | F130: Ostatní konstrukce a práce-bourání | J130: =BK130 -> 0 | P130: =SUM(P131:P132) -> 0 | R130: =SUM(R131:R132) -> 0.02302 | T130: =SUM(T131:T132) -> 0 | AR130: 1 | AT130: D | AU130: 1 | AY130: ROZPOCET | BK130: =SUM(BK131:BK132) -> 0
C131: 1 | D131: K | E131: 953943211 | F131: Osazování hasicího přístroje | G131: kus | H131: 2 | J131: =ROUND(I131*H131,2) -> 0 | K131: CS ÚRS 2026 01 | N131: základní | P131: =O131*H131 -> 0 | Q131: 0.00011 | R131: =Q131*H131 -> 0.00022 | S131: 0 | T131: =S131*H131 -> 0 | AR131: 4 | AT131: K | AU131: 2 | AY131: ROZPOCET | BE131: =IF(N131="základní",J131,0) -> 0 | BF131: =IF(N131="snížená",J131,0) -> 0 | BG131: =IF(N131="zákl. přenesená",J131,0) -> 0 | BH131: =IF(N131="sníž. přenesená",J131,0) -> 0 | BI131: =IF(N131="nulová",J131,0) -> 0 | BJ131: 1 | BK131: =ROUND(I131*H131,2) -> 0 | BL131: 4 | BM131: -1662679319
C132: 2 | D132: M | E132: 44932003 | F132: přístroj hasicí ruční práškový s ochranným štítem hasební schopnost 21A, 113B, C | G132: kus | H132: 2 | J132: =ROUND(I132*H132,2) -> 0 | K132: CS ÚRS 2026 01 | N132: základní | P132: =O132*H132 -> 0 | Q132: 0.0114 | R132: =Q132*H132 -> 0.0228 | S132: 0 | T132: =S132*H132 -> 0 | AR132: 8 | AT132: M | AU132: 2 | AY132: ROZPOCET | BE132: =IF(N132="základní",J132,0) -> 0 | BF132: =IF(N132="snížená",J132,0) -> 0 | BG132: =IF(N132="zákl. přenesená",J132,0) -> 0 | BH132: =IF(N132="sníž. přenesená",J132,0) -> 0 | BI132: =IF(N132="nulová",J132,0) -> 0 | BJ132: 1 | BK132: =ROUND(I132*H132,2) -> 0 | BL132: 4 | BM132: 1313881286
D133: D | E133: 997 | F133: Doprava suti a vybouraných hmot | J133: =BK133 -> 0 | P133: =SUM(P134:P137) -> 0 | R133: =SUM(R134:R137) -> 0 | T133: =SUM(T134:T137) -> 0 | AR133: 1 | AT133: D | AU133: 1 | AY133: ROZPOCET | BK133: =SUM(BK134:BK137) -> 0
C134: 3 | D134: K | E134: 997013212 | F134: Vnitrostaveništní doprava suti a vybouraných hmot pro budovy v přes 6 do 9 m ručně | G134: t | H134: 1.205 | J134: =ROUND(I134*H134,2) -> 0 | K134: CS ÚRS 2026 01 | N134: základní | P134: =O134*H134 -> 0 | Q134: 0 | R134: =Q134*H134 -> 0 | S134: 0 | T134: =S134*H134 -> 0 | AR134: 4 | AT134: K | AU134: 2 | AY134: ROZPOCET | BE134: =IF(N134="základní",J134,0) -> 0 | BF134: =IF(N134="snížená",J134,0) -> 0 | BG134: =IF(N134="zákl. přenesená",J134,0) -> 0 | BH134: =IF(N134="sníž. přenesená",J134,0) -> 0 | BI134: =IF(N134="nulová",J134,0) -> 0 | BJ134: 1 | BK134: =ROUND(I134*H134,2) -> 0 | BL134: 4 | BM134: 1861838933
C135: 4 | D135: K | E135: 997013501 | F135: Odvoz suti a vybouraných hmot na skládku nebo meziskládku do 1 km se složením | G135: t | H135: 1.205 | J135: =ROUND(I135*H135,2) -> 0 | K135: CS ÚRS 2026 01 | N135: základní | P135: =O135*H135 -> 0 | Q135: 0 | R135: =Q135*H135 -> 0 | S135: 0 | T135: =S135*H135 -> 0 | AR135: 4 | AT135: K | AU135: 2 | AY135: ROZPOCET | BE135: =IF(N135="základní",J135,0) -> 0 | BF135: =IF(N135="snížená",J135,0) -> 0 | BG135: =IF(N135="zákl. přenesená",J135,0) -> 0 | BH135: =IF(N135="sníž. přenesená",J135,0) -> 0 | BI135: =IF(N135="nulová",J135,0) -> 0 | BJ135: 1 | BK135: =ROUND(I135*H135,2) -> 0 | BL135: 4 | BM135: -341042260
C136: 5 | D136: K | E136: 997013509 | F136: Příplatek k odvozu suti a vybouraných hmot na skládku ZKD 1 km přes 1 km | G136: t | H136: 1.205 | J136: =ROUND(I136*H136,2) -> 0 | K136: CS ÚRS 2026 01 | N136: základní | P136: =O136*H136 -> 0 | Q136: 0 | R136: =Q136*H136 -> 0 | S136: 0 | T136: =S136*H136 -> 0 | AR136: 4 | AT136: K | AU136: 2 | AY136: ROZPOCET | BE136: =IF(N136="základní",J136,0) -> 0 | BF136: =IF(N136="snížená",J136,0) -> 0 | BG136: =IF(N136="zákl. přenesená",J136,0) -> 0 | BH136: =IF(N136="sníž. přenesená",J136,0) -> 0 | BI136: =IF(N136="nulová",J136,0) -> 0 | BJ136: 1 | BK136: =ROUND(I136*H136,2) -> 0 | BL136: 4 | BM136: -429869976
C137: 6 | D137: K | E137: 997013814 | F137: Poplatek za uložení na skládce (skládkovné) stavebního odpadu izolací kód odpadu 17 06 04 | G137: t | H137: 2.706 | J137: =ROUND(I137*H137,2) -> 0 | K137: CS ÚRS 2026 01 | N137: základní | P137: =O137*H137 -> 0 | Q137: 0 | R137: =Q137*H137 -> 0 | S137: 0 | T137: =S137*H137 -> 0 | AR137: 4 | AT137: K | AU137: 2 | AY137: ROZPOCET | BE137: =IF(N137="základní",J137,0) -> 0 | BF137: =IF(N137="snížená",J137,0) -> 0 | BG137: =IF(N137="zákl. přenesená",J137,0) -> 0 | BH137: =IF(N137="sníž. přenesená",J137,0) -> 0 | BI137: =IF(N137="nulová",J137,0) -> 0 | BJ137: 1 | BK137: =ROUND(I137*H137,2) -> 0 | BL137: 4 | BM137: -1530923519
D138: D | E138: PSV | F138: Práce a dodávky PSV | J138: =BK138 -> 0 | P138: =P139+P141+P150+P174+P195+P201 -> 0 | R138: =R139+R141+R150+R174+R195+R201 -> 2.1986092 | T138: =T139+T141+T150+T174+T195+T201 -> 1.2052577 | AR138: 2 | AT138: D | AU138: 0 | AY138: ROZPOCET | BK138: =BK139+BK141+BK150+BK174+BK195+BK201 -> 0
D139: D | E139: 741 | F139: Elektroinstalace - silnoproud | J139: =BK139 -> 0 | P139: =P140 -> 0 | R139: =R140 -> 0 | T139: =T140 -> 0.0008 | AR139: 2 | AT139: D | AU139: 1 | AY139: ROZPOCET | BK139: =BK140 -> 0
C140: 7 | D140: K | E140: 7413718R1 | F140: Demontáž svítidel a čidel, opětovná zpětná montáž | G140: kpl | H140: 1 | J140: =ROUND(I140*H140,2) -> 0 | N140: základní | P140: =O140*H140 -> 0 | Q140: 0 | R140: =Q140*H140 -> 0 | S140: 0.0008 | T140: =S140*H140 -> 0.0008 | AR140: 16 | AT140: K | AU140: 2 | AY140: ROZPOCET | BE140: =IF(N140="základní",J140,0) -> 0 | BF140: =IF(N140="snížená",J140,0) -> 0 | BG140: =IF(N140="zákl. přenesená",J140,0) -> 0 | BH140: =IF(N140="sníž. přenesená",J140,0) -> 0 | BI140: =IF(N140="nulová",J140,0) -> 0 | BJ140: 1 | BK140: =ROUND(I140*H140,2) -> 0 | BL140: 16 | BM140: -712386996
D141: D | E141: 763 | F141: Konstrukce suché výstavby | J141: =BK141 -> 0 | P141: =SUM(P142:P149) -> 0 | R141: =SUM(R142:R149) -> 1.3574451 | T141: =SUM(T142:T149) -> 0.054747 | AR141: 2 | AT141: D | AU141: 1 | AY141: ROZPOCET | BK141: =SUM(BK142:BK149) -> 0
C142: 8 | D142: K | E142: 763431802 | F142: Demontáž minerálního podhledu zavěšeného na polozapuštěném roštu | G142: m2 | H142: 26.07 | J142: =ROUND(I142*H142,2) -> 0 | K142: CS ÚRS 2026 01 | N142: základní | P142: =O142*H142 -> 0 | Q142: 0 | R142: =Q142*H142 -> 0 | S142: 0.0021 | T142: =S142*H142 -> 0.054747 | AR142: 16 | AT142: K | AU142: 2 | AY142: ROZPOCET | BE142: =IF(N142="základní",J142,0) -> 0 | BF142: =IF(N142="snížená",J142,0) -> 0 | BG142: =IF(N142="zákl. přenesená",J142,0) -> 0 | BH142: =IF(N142="sníž. přenesená",J142,0) -> 0 | BI142: =IF(N142="nulová",J142,0) -> 0 | BJ142: 1 | BK142: =ROUND(I142*H142,2) -> 0 | BL142: 16 | BM142: -427488048
D143: VV | F143: 3,30*7,90 | H143: 26.07 | AT143: VV | AU143: 2 | AV143: 2 | AW143: True | AX143: 1 | AY143: ROZPOCET
C144: 9 | D144: K | E144: 763132231.KNF | F144: SDK podhled samostatný požární předěl D112 3x RED PIANO (DF) 15 mm TI 2x40 mm 40 kg/m3 EI Z/S 90/90 dvouvrstvá spodní kce CD+UD EI60DP1 | G144: m2 | H144: 26.07 | J144: =ROUND(I144*H144,2) -> 0 | N144: základní | P144: =O144*H144 -> 0 | Q144: 0.04893 | R144: =Q144*H144 -> 1.2756051 | S144: 0 | T144: =S144*H144 -> 0 | AR144: 16 | AT144: K | AU144: 2 | AY144: ROZPOCET | BE144: =IF(N144="základní",J144,0) -> 0 | BF144: =IF(N144="snížená",J144,0) -> 0 | BG144: =IF(N144="zákl. přenesená",J144,0) -> 0 | BH144: =IF(N144="sníž. přenesená",J144,0) -> 0 | BI144: =IF(N144="nulová",J144,0) -> 0 | BJ144: 1 | BK144: =ROUND(I144*H144,2) -> 0 | BL144: 16 | BM144: 655672412
D145: VV | F145: 3,30*7,90 | H145: 26.07 | AT145: VV | AU145: 2 | AV145: 2 | AW145: True | AX145: 1 | AY145: ROZPOCET
C146: 10 | D146: K | E146: 763172354 | F146: Montáž dvířek revizních jednoplášťových SDK kcí vel. 500 x 500 mm pro podhledy | G146: kus | H146: 8 | J146: =ROUND(I146*H146,2) -> 0 | K146: CS ÚRS 2026 01 | N146: základní | P146: =O146*H146 -> 0 | Q146: 3e-05 | R146: =Q146*H146 -> 0.00024 | S146: 0 | T146: =S146*H146 -> 0 | AR146: 16 | AT146: K | AU146: 2 | AY146: ROZPOCET | BE146: =IF(N146="základní",J146,0) -> 0 | BF146: =IF(N146="snížená",J146,0) -> 0 | BG146: =IF(N146="zákl. přenesená",J146,0) -> 0 | BH146: =IF(N146="sníž. přenesená",J146,0) -> 0 | BI146: =IF(N146="nulová",J146,0) -> 0 | BJ146: 1 | BK146: =ROUND(I146*H146,2) -> 0 | BL146: 16 | BM146: 1892943832
C147: 11 | D147: M | E147: 59030762 | F147: dvířka revizní protipožární pro stěny a podhledy EI 60 500x500 mm | G147: kus | H147: 8 | J147: =ROUND(I147*H147,2) -> 0 | K147: CS ÚRS 2026 01 | N147: základní | P147: =O147*H147 -> 0 | Q147: 0.0102 | R147: =Q147*H147 -> 0.0816 | S147: 0 | T147: =S147*H147 -> 0 | AR147: 32 | AT147: M | AU147: 2 | AY147: ROZPOCET | BE147: =IF(N147="základní",J147,0) -> 0 | BF147: =IF(N147="snížená",J147,0) -> 0 | BG147: =IF(N147="zákl. přenesená",J147,0) -> 0 | BH147: =IF(N147="sníž. přenesená",J147,0) -> 0 | BI147: =IF(N147="nulová",J147,0) -> 0 | BJ147: 1 | BK147: =ROUND(I147*H147,2) -> 0 | BL147: 16 | BM147: 1372283856
C148: 12 | D148: K | E148: 998763412 | F148: Přesun hmot procentní pro konstrukce montované z desek s omezením mechanizace v objektech v přes 6 do 12 m | G148: % | J148: =ROUND(I148*H148,2) -> 0 | N148: základní | P148: =O148*H148 -> 0 | Q148: 0 | R148: =Q148*H148 -> 0 | S148: 0 | T148: =S148*H148 -> 0 | AR148: 16 | AT148: K | AU148: 2 | AY148: ROZPOCET | BE148: =IF(N148="základní",J148,0) -> 0 | BF148: =IF(N148="snížená",J148,0) -> 0 | BG148: =IF(N148="zákl. přenesená",J148,0) -> 0 | BH148: =IF(N148="sníž. přenesená",J148,0) -> 0 | BI148: =IF(N148="nulová",J148,0) -> 0 | BJ148: 1 | BK148: =ROUND(I148*H148,2) -> 0 | BL148: 16 | BM148: 305732382
D149: VV | F149: 1,357*10 'Přepočtené koeficientem množství | H149: 13.57 | AT149: VV | AU149: 2 | AV149: 2 | AW149: False | AX149: 1 | AY149: ROZPOCET
D150: D | E150: 766 | F150: Konstrukce truhlářské | J150: =BK150 -> 0 | P150: =SUM(P151:P173) -> 0 | R150: =SUM(R151:R173) -> 0.0356094 | T150: =SUM(T151:T173) -> 1.1497107 | AR150: 2 | AT150: D | AU150: 1 | AY150: ROZPOCET | BK150: =SUM(BK151:BK173) -> 0
C151: 13 | D151: K | E151: 7668258R1 | F151: Demontáž a zpětná montáž konstrukce pultu | G151: bm | H151: 7.88 | J151: =ROUND(I151*H151,2) -> 0 | N151: základní | P151: =O151*H151 -> 0 | Q151: 0 | R151: =Q151*H151 -> 0 | S151: 0.0881 | T151: =S151*H151 -> 0.694228 | AR151: 16 | AT151: K | AU151: 2 | AY151: ROZPOCET | BE151: =IF(N151="základní",J151,0) -> 0 | BF151: =IF(N151="snížená",J151,0) -> 0 | BG151: =IF(N151="zákl. přenesená",J151,0) -> 0 | BH151: =IF(N151="sníž. přenesená",J151,0) -> 0 | BI151: =IF(N151="nulová",J151,0) -> 0 | BJ151: 1 | BK151: =ROUND(I151*H151,2) -> 0 | BL151: 16 | BM151: 932395452
D152: VV | F152: 7,88 | H152: 7.88 | AT152: VV | AU152: 2 | AV152: 2 | AW152: True | AX152: 1 | AY152: ROZPOCET
C153: 14 | D153: K | E153: 766411811 | F153: Demontáž truhlářského obložení stěn z panelů plochy do 1,5 m2 | G153: m2 | H153: 5.522 | J153: =ROUND(I153*H153,2) -> 0 | K153: CS ÚRS 2026 01 | N153: základní | P153: =O153*H153 -> 0 | Q153: 0 | R153: =Q153*H153 -> 0 | S153: 0.02465 | T153: =S153*H153 -> 0.1361173 | AR153: 16 | AT153: K | AU153: 2 | AY153: ROZPOCET | BE153: =IF(N153="základní",J153,0) -> 0 | BF153: =IF(N153="snížená",J153,0) -> 0 | BG153: =IF(N153="zákl. přenesená",J153,0) -> 0 | BH153: =IF(N153="sníž. přenesená",J153,0) -> 0 | BI153: =IF(N153="nulová",J153,0) -> 0 | BJ153: 1 | BK153: =ROUND(I153*H153,2) -> 0 | BL153: 16 | BM153: -1742660909
D154: VV | F154: "demontáž DTD ostění" (0,63+0,80)*2,20 | H154: 3.146 | AT154: VV | AU154: 2 | AV154: 2 | AW154: True | AX154: 0 | AY154: ROZPOCET
D155: VV | F155: "demontáž DTD ostění" (0,63+0,45)*2,20 | H155: 2.376 | AT155: VV | AU155: 2 | AV155: 2 | AW155: True | AX155: 0 | AY155: ROZPOCET
D156: VV | F156: Součet | H156: 5.522 | AT156: VV | AU156: 2 | AV156: 4 | AW156: True | AX156: 1 | AY156: ROZPOCET
C157: 15 | D157: K | E157: 766421811 | F157: Demontáž truhlářského obložení podhledů z panelů plochy do 1,5 m2 | G157: m2 | H157: 12.956 | J157: =ROUND(I157*H157,2) -> 0 | K157: CS ÚRS 2026 01 | N157: základní | P157: =O157*H157 -> 0 | Q157: 0 | R157: =Q157*H157 -> 0 | S157: 0.02465 | T157: =S157*H157 -> 0.3193654 | AR157: 16 | AT157: K | AU157: 2 | AY157: ROZPOCET | BE157: =IF(N157="základní",J157,0) -> 0 | BF157: =IF(N157="snížená",J157,0) -> 0 | BG157: =IF(N157="zákl. přenesená",J157,0) -> 0 | BH157: =IF(N157="sníž. přenesená",J157,0) -> 0 | BI157: =IF(N157="nulová",J157,0) -> 0 | BJ157: 1 | BK157: =ROUND(I157*H157,2) -> 0 | BL157: 16 | BM157: -1192282751
D158: VV | F158: "demontáž DTD nadpraží" (0,38+0,60+0,66)*7,90 | H158: 12.956 | AT158: VV | AU158: 2 | AV158: 2 | AW158: True | AX158: 1 | AY158: ROZPOCET
C159: 16 | D159: K | E159: 766414231 | F159: Montáž obložení stěn pl do 5 m2 panely dýhovanými do 0,60 m2 | G159: m2 | H159: 5.522 | J159: =ROUND(I159*H159,2) -> 0 | K159: CS ÚRS 2026 01 | N159: základní | P159: =O159*H159 -> 0 | Q159: 0 | R159: =Q159*H159 -> 0 | S159: 0 | T159: =S159*H159 -> 0 | AR159: 16 | AT159: K | AU159: 2 | AY159: ROZPOCET | BE159: =IF(N159="základní",J159,0) -> 0 | BF159: =IF(N159="snížená",J159,0) -> 0 | BG159: =IF(N159="zákl. přenesená",J159,0) -> 0 | BH159: =IF(N159="sníž. přenesená",J159,0) -> 0 | BI159: =IF(N159="nulová",J159,0) -> 0 | BJ159: 1 | BK159: =ROUND(I159*H159,2) -> 0 | BL159: 16 | BM159: -559198453
C160: 17 | D160: M | E160: 60621132R | F160: DTD deska, totožná s původním materiálem | G160: m2 | H160: 1.215 | J160: =ROUND(I160*H160,2) -> 0 | N160: základní | P160: =O160*H160 -> 0 | Q160: 0.00876 | R160: =Q160*H160 -> 0.0106434 | S160: 0 | T160: =S160*H160 -> 0 | AR160: 32 | AT160: M | AU160: 2 | AY160: ROZPOCET | BE160: =IF(N160="základní",J160,0) -> 0 | BF160: =IF(N160="snížená",J160,0) -> 0 | BG160: =IF(N160="zákl. přenesená",J160,0) -> 0 | BH160: =IF(N160="sníž. přenesená",J160,0) -> 0 | BI160: =IF(N160="nulová",J160,0) -> 0 | BJ160: 1 | BK160: =ROUND(I160*H160,2) -> 0 | BL160: 16 | BM160: 1506154353
D161: VV | F161: Pozn.: předpoklad zpětného použití z 80% | AT161: VV | AU161: 2 | AV161: 1 | AW161: True | AX161: 0 | AY161: ROZPOCET
D162: VV | F162: "zpětná montáž DTD ostění" (0,63+0,80)*2,20 | H162: 3.146 | AT162: VV | AU162: 2 | AV162: 2 | AW162: True | AX162: 0 | AY162: ROZPOCET
D163: VV | F163: "zpětná montáž DTD ostění" (0,63+0,45)*2,20 | H163: 2.376 | AT163: VV | AU163: 2 | AV163: 2 | AW163: True | AX163: 0 | AY163: ROZPOCET
D164: VV | F164: Součet | H164: 5.522 | AT164: VV | AU164: 2 | AV164: 4 | AW164: True | AX164: 1 | AY164: ROZPOCET
D165: VV | F165: 5,522*0,22 'Přepočtené koeficientem množství | H165: 1.215 | AT165: VV | AU165: 2 | AV165: 2 | AW165: False | AX165: 1 | AY165: ROZPOCET
C166: 18 | D166: K | E166: 766422231 | F166: Montáž obložení podhledů jednoduchých panely dýhovanými do 0,60 m2 | G166: m2 | H166: 12.956 | J166: =ROUND(I166*H166,2) -> 0 | K166: CS ÚRS 2026 01 | N166: základní | P166: =O166*H166 -> 0 | Q166: 0 | R166: =Q166*H166 -> 0 | S166: 0 | T166: =S166*H166 -> 0 | AR166: 16 | AT166: K | AU166: 2 | AY166: ROZPOCET | BE166: =IF(N166="základní",J166,0) -> 0 | BF166: =IF(N166="snížená",J166,0) -> 0 | BG166: =IF(N166="zákl. přenesená",J166,0) -> 0 | BH166: =IF(N166="sníž. přenesená",J166,0) -> 0 | BI166: =IF(N166="nulová",J166,0) -> 0 | BJ166: 1 | BK166: =ROUND(I166*H166,2) -> 0 | BL166: 16 | BM166: 329358966
...

Sheet SO-01.C - Architektonické...
AT2: {94d2cd69-58ec-4f8b-a70a-ab28b99518a1}
AT3: 2
D4: KRYCÍ LIST SOUPISU PRACÍ | M4: v --- níže se nacházejí doplnkové a pomocné údaje k sestavám --- v | AT4: False
D6: Stavba:
E7: ='Rekapitulace stavby'!K6 -> Kongresové centrum - Úprava šaten
D8: Objekt:
E9: SO-01.C - Architektonické a stavební řešení - šatna C
D11: KSO: | I11: CC-CZ:
D12: Místo: | F12: Praha 4 | I12: Datum: | J12: ='Rekapitulace stavby'!AN8 -> 46155
D14: Zadavatel: | I14: IČ: | J14: =IF('Rekapitulace stavby'!AN10="","",'Rekapitulace stavby'!AN10)
E15: =IF('Rekapitulace stavby'!E11="","",'Rekapitulace stavby'!E11) | I15: DIČ: | J15: =IF('Rekapitulace stavby'!AN11="","",'Rekapitulace stavby'!AN11)
D17: Uchazeč: | I17: IČ: | J17: ='Rekapitulace stavby'!AN13 -> Vyplň údaj
E18: ='Rekapitulace stavby'!E14 -> Vyplň údaj | I18: DIČ: | J18: ='Rekapitulace stavby'!AN14 -> Vyplň údaj
D20: Projektant: | I20: IČ:
E21: OMEGAproject, s.r.o. | I21: DIČ:
D23: Zpracovatel: | I23: IČ:
E24: Vít Včeliš, 724538658, vitvcelis@seznam.cz | I24: DIČ:
D26: Poznámka:
D30: Cena bez DPH | J30: =ROUND(J128, 2) -> 0
F32: Základ daně | I32: Sazba daně | J32: Výše daně
D33: DPH | E33: základní | F33: =ROUND((SUM(BE128:BE211)), 2) -> 0 | I33: 0.21 | J33: =ROUND(((SUM(BE128:BE211))*I33), 2) -> 0
E34: snížená | F34: =ROUND((SUM(BF128:BF211)), 2) -> 0 | I34: 0.15 | J34: =ROUND(((SUM(BF128:BF211))*I34), 2) -> 0
E35: zákl. přenesená | F35: =ROUND((SUM(BG128:BG211)), 2) -> 0 | I35: 0.21 | J35: =0 -> 0
E36: sníž. přenesená | F36: =ROUND((SUM(BH128:BH211)), 2) -> 0 | I36: 0.15 | J36: =0 -> 0
E37: nulová | F37: =ROUND((SUM(BI128:BI211)), 2) -> 0 | I37: 0 | J37: =0 -> 0
D39: Cena s DPH | G39: v | H39: CZK | J39: =SUM(J30:J37) -> 0
D50: Projektant | G50: Zpracovatel
D61: Datum a podpis: | F61: Razítko | G61: Datum a podpis: | J61: Razítko
D65: Objednavatel | G65: Uchazeč
D76: Datum a podpis: | F76: Razítko | G76: Datum a podpis: | J76: Razítko
C82: REKAPITULACE ČLENĚNÍ SOUPISU PRACÍ
C84: Stavba:
E85: =E7 -> Kongresové centrum - Úprava šaten
C86: Objekt:
E87: =E9 -> SO-01.C - Architektonické a stavební řešení - šatna C
C89: Místo: | F89: =F12 -> Praha 4 | I89: Datum: | J89: =IF(J12="","",J12) -> 46155
C91: Zadavatel: | F91: =E15 | I91: Projektant: | J91: =E21 -> OMEGAproject, s.r.o.
C92: Uchazeč: | F92: =IF(E18="","",E18) -> Vyplň údaj | I92: Zpracovatel: | J92: =E24 -> Vít Včeliš, 724538658, vitvcelis@seznam.cz
C94: Kód dílu - Popis | J94: Cena celkem [CZK]
C96: Náklady ze soupisu prací | J96: =J128 -> 0 | AU96: -1
D97: HSV - Práce a dodávky HSV | J97: =J129 -> 0
D98: 9 - Ostatní konstrukce a práce-bourání | J98: =J130 -> 0
D99: 997 - Doprava suti a vybouraných hmot | J99: =J133 -> 0
D100: PSV - Práce a dodávky PSV | J100: =J138 -> 0
D101: 741 - Elektroinstalace - silnoproud | J101: =J139 -> 0
D102: 763 - Konstrukce suché výstavby | J102: =J141 -> 0
D103: 766 - Konstrukce truhlářské | J103: =J150 -> 0
D104: 767 - Konstrukce zámečnické | J104: =J174 -> 0
D105: 784 - Dokončovací práce | J105: =J194 -> 0
D106: 786 - Dokončovací práce - stínění a čalounické úpravy | J106: =J200 -> 0
D107: OST - Ostatní | J107: =J202 -> 0
D108: OST1 - Ostatní náklady | J108: =J203 -> 0
C115: SOUPIS PRACÍ
C117: Stavba:
E118: =E7 -> Kongresové centrum - Úprava šaten
C119: Objekt:
E120: =E9 -> SO-01.C - Architektonické a stavební řešení - šatna C
C122: Místo: | F122: =F12 -> Praha 4 | I122: Datum: | J122: =IF(J12="","",J12) -> 46155
C124: Zadavatel: | F124: =E15 | I124: Projektant: | J124: =E21 -> OMEGAproject, s.r.o.
C125: Uchazeč: | F125: =IF(E18="","",E18) -> Vyplň údaj | I125: Zpracovatel: | J125: =E24 -> Vít Včeliš, 724538658, vitvcelis@seznam.cz
C127: PČ | D127: Typ | E127: Kód | F127: Popis | G127: MJ | H127: Množství | I127: J.cena [CZK] | J127: Cena celkem [CZK] | K127: Cenová soustava | N127: DPH | O127: J. Nh [h] | P127: Nh celkem [h] | Q127: J. hmotnost [t] | R127: Hmotnost celkem [t] | S127: J. suť [t] | T127: Suť Celkem [t]
C128: Náklady soupisu celkem | J128: =BK128 -> 0 | P128: =P129+P138+P202 -> 0 | R128: =R129+R138+R202 -> 2.2762205 | T128: =T129+T138+T202 -> 1.2297887 | AT128: D | AU128: -1 | BK128: =BK129+BK138+BK202 -> 0
D129: D | E129: HSV | F129: Práce a dodávky HSV | J129: =BK129 -> 0 | P129: =P130+P133 -> 0 | R129: =R130+R133 -> 0.02302 | T129: =T130+T133 -> 0 | AR129: 1 | AT129: D | AU129: 0 | AY129: ROZPOCET | BK129: =BK130+BK133 -> 0
D130: D | E130: 9 | F130: Ostatní konstrukce a práce-bourání | J130: =BK130 -> 0 | P130: =SUM(P131:P132) -> 0 | R130: =SUM(R131:R132) -> 0.02302 | T130: =SUM(T131:T132) -> 0 | AR130: 1 | AT130: D | AU130: 1 | AY130: ROZPOCET | BK130: =SUM(BK131:BK132) -> 0
C131: 1 | D131: K | E131: 953943211 | F131: Osazování hasicího přístroje | G131: kus | H131: 2 | J131: =ROUND(I131*H131,2) -> 0 | K131: CS ÚRS 2026 01 | N131: základní | P131: =O131*H131 -> 0 | Q131: 0.00011 | R131: =Q131*H131 -> 0.00022 | S131: 0 | T131: =S131*H131 -> 0 | AR131: 4 | AT131: K | AU131: 2 | AY131: ROZPOCET | BE131: =IF(N131="základní",J131,0) -> 0 | BF131: =IF(N131="snížená",J131,0) -> 0 | BG131: =IF(N131="zákl. přenesená",J131,0) -> 0 | BH131: =IF(N131="sníž. přenesená",J131,0) -> 0 | BI131: =IF(N131="nulová",J131,0) -> 0 | BJ131: 1 | BK131: =ROUND(I131*H131,2) -> 0 | BL131: 4 | BM131: 147516549
C132: 2 | D132: M | E132: 44932003 | F132: přístroj hasicí ruční práškový s ochranným štítem hasební schopnost 21A, 113B, C | G132: kus | H132: 2 | J132: =ROUND(I132*H132,2) -> 0 | K132: CS ÚRS 2026 01 | N132: základní | P132: =O132*H132 -> 0 | Q132: 0.0114 | R132: =Q132*H132 -> 0.0228 | S132: 0 | T132: =S132*H132 -> 0 | AR132: 8 | AT132: M | AU132: 2 | AY132: ROZPOCET | BE132: =IF(N132="základní",J132,0) -> 0 | BF132: =IF(N132="snížená",J132,0) -> 0 | BG132: =IF(N132="zákl. přenesená",J132,0) -> 0 | BH132: =IF(N132="sníž. přenesená",J132,0) -> 0 | BI132: =IF(N132="nulová",J132,0) -> 0 | BJ132: 1 | BK132: =ROUND(I132*H132,2) -> 0 | BL132: 4 | BM132: 1591163779
D133: D | E133: 997 | F133: Doprava suti a vybouraných hmot | J133: =BK133 -> 0 | P133: =SUM(P134:P137) -> 0 | R133: =SUM(R134:R137) -> 0 | T133: =SUM(T134:T137) -> 0 | AR133: 1 | AT133: D | AU133: 1 | AY133: ROZPOCET | BK133: =SUM(BK134:BK137) -> 0
C134: 3 | D134: K | E134: 997013212 | F134: Vnitrostaveništní doprava suti a vybouraných hmot pro budovy v přes 6 do 9 m ručně | G134: t | H134: 1.23 | J134: =ROUND(I134*H134,2) -> 0 | K134: CS ÚRS 2026 01 | N134: základní | P134: =O134*H134 -> 0 | Q134: 0 | R134: =Q134*H134 -> 0 | S134: 0 | T134: =S134*H134 -> 0 | AR134: 4 | AT134: K | AU134: 2 | AY134: ROZPOCET | BE134: =IF(N134="základní",J134,0) -> 0 | BF134: =IF(N134="snížená",J134,0) -> 0 | BG134: =IF(N134="zákl. přenesená",J134,0) -> 0 | BH134: =IF(N134="sníž. přenesená",J134,0) -> 0 | BI134: =IF(N134="nulová",J134,0) -> 0 | BJ134: 1 | BK134: =ROUND(I134*H134,2) -> 0 | BL134: 4 | BM134: 1861838933
C135: 4 | D135: K | E135: 997013501 | F135: Odvoz suti a vybouraných hmot na skládku nebo meziskládku do 1 km se složením | G135: t | H135: 1.23 | J135: =ROUND(I135*H135,2) -> 0 | K135: CS ÚRS 2026 01 | N135: základní | P135: =O135*H135 -> 0 | Q135: 0 | R135: =Q135*H135 -> 0 | S135: 0 | T135: =S135*H135 -> 0 | AR135: 4 | AT135: K | AU135: 2 | AY135: ROZPOCET | BE135: =IF(N135="základní",J135,0) -> 0 | BF135: =IF(N135="snížená",J135,0) -> 0 | BG135: =IF(N135="zákl. přenesená",J135,0) -> 0 | BH135: =IF(N135="sníž. přenesená",J135,0) -> 0 | BI135: =IF(N135="nulová",J135,0) -> 0 | BJ135: 1 | BK135: =ROUND(I135*H135,2) -> 0 | BL135: 4 | BM135: -341042260
C136: 5 | D136: K | E136: 997013509 | F136: Příplatek k odvozu suti a vybouraných hmot na skládku ZKD 1 km přes 1 km | G136: t | H136: 1.23 | J136: =ROUND(I136*H136,2) -> 0 | K136: CS ÚRS 2026 01 | N136: základní | P136: =O136*H136 -> 0 | Q136: 0 | R136: =Q136*H136 -> 0 | S136: 0 | T136: =S136*H136 -> 0 | AR136: 4 | AT136: K | AU136: 2 | AY136: ROZPOCET | BE136: =IF(N136="základní",J136,0) -> 0 | BF136: =IF(N136="snížená",J136,0) -> 0 | BG136: =IF(N136="zákl. přenesená",J136,0) -> 0 | BH136: =IF(N136="sníž. přenesená",J136,0) -> 0 | BI136: =IF(N136="nulová",J136,0) -> 0 | BJ136: 1 | BK136: =ROUND(I136*H136,2) -> 0 | BL136: 4 | BM136: -429869976
C137: 6 | D137: K | E137: 997013814 | F137: Poplatek za uložení na skládce (skládkovné) stavebního odpadu izolací kód odpadu 17 06 04 | G137: t | H137: 2.706 | J137: =ROUND(I137*H137,2) -> 0 | K137: CS ÚRS 2026 01 | N137: základní | P137: =O137*H137 -> 0 | Q137: 0 | R137: =Q137*H137 -> 0 | S137: 0 | T137: =S137*H137 -> 0 | AR137: 4 | AT137: K | AU137: 2 | AY137: ROZPOCET | BE137: =IF(N137="základní",J137,0) -> 0 | BF137: =IF(N137="snížená",J137,0) -> 0 | BG137: =IF(N137="zákl. přenesená",J137,0) -> 0 | BH137: =IF(N137="sníž. přenesená",J137,0) -> 0 | BI137: =IF(N137="nulová",J137,0) -> 0 | BJ137: 1 | BK137: =ROUND(I137*H137,2) -> 0 | BL137: 4 | BM137: -1530923519
D138: D | E138: PSV | F138: Práce a dodávky PSV | J138: =BK138 -> 0 | P138: =P139+P141+P150+P174+P194+P200 -> 0 | R138: =R139+R141+R150+R174+R194+R200 -> 2.2532005 | T138: =T139+T141+T150+T174+T194+T200 -> 1.2297887 | AR138: 2 | AT138: D | AU138: 0 | AY138: ROZPOCET | BK138: =BK139+BK141+BK150+BK174+BK194+BK200 -> 0
D139: D | E139: 741 | F139: Elektroinstalace - silnoproud | J139: =BK139 -> 0 | P139: =P140 -> 0 | R139: =R140 -> 0 | T139: =T140 -> 0.0008 | AR139: 2 | AT139: D | AU139: 1 | AY139: ROZPOCET | BK139: =BK140 -> 0
C140: 7 | D140: K | E140: 7413718R1 | F140: Demontáž svítidel a čidel, opětovná zpětná montáž | G140: kpl | H140: 1 | J140: =ROUND(I140*H140,2) -> 0 | N140: základní | P140: =O140*H140 -> 0 | Q140: 0 | R140: =Q140*H140 -> 0 | S140: 0.0008 | T140: =S140*H140 -> 0.0008 | AR140: 16 | AT140: K | AU140: 2 | AY140: ROZPOCET | BE140: =IF(N140="základní",J140,0) -> 0 | BF140: =IF(N140="snížená",J140,0) -> 0 | BG140: =IF(N140="zákl. přenesená",J140,0) -> 0 | BH140: =IF(N140="sníž. přenesená",J140,0) -> 0 | BI140: =IF(N140="nulová",J140,0) -> 0 | BJ140: 1 | BK140: =ROUND(I140*H140,2) -> 0 | BL140: 16 | BM140: -712386996
D141: D | E141: 763 | F141: Konstrukce suché výstavby | J141: =BK141 -> 0 | P141: =SUM(P142:P149) -> 0 | R141: =SUM(R142:R149) -> 1.3577387 | T141: =SUM(T142:T149) -> 0.0547596 | AR141: 2 | AT141: D | AU141: 1 | AY141: ROZPOCET | BK141: =SUM(BK142:BK149) -> 0
C142: 8 | D142: K | E142: 763431802 | F142: Demontáž minerálního podhledu zavěšeného na polozapuštěném roštu | G142: m2 | H142: 26.076 | J142: =ROUND(I142*H142,2) -> 0 | K142: CS ÚRS 2026 01 | N142: základní | P142: =O142*H142 -> 0 | Q142: 0 | R142: =Q142*H142 -> 0 | S142: 0.0021 | T142: =S142*H142 -> 0.0547596 | AR142: 16 | AT142: K | AU142: 2 | AY142: ROZPOCET | BE142: =IF(N142="základní",J142,0) -> 0 | BF142: =IF(N142="snížená",J142,0) -> 0 | BG142: =IF(N142="zákl. přenesená",J142,0) -> 0 | BH142: =IF(N142="sníž. přenesená",J142,0) -> 0 | BI142: =IF(N142="nulová",J142,0) -> 0 | BJ142: 1 | BK142: =ROUND(I142*H142,2) -> 0 | BL142: 16 | BM142: -427488048
D143: VV | F143: 3,28*7,95 | H143: 26.076 | AT143: VV | AU143: 2 | AV143: 2 | AW143: True | AX143: 1 | AY143: ROZPOCET
C144: 9 | D144: K | E144: 763132231.KNF | F144: SDK podhled samostatný požární předěl D112 3x RED PIANO (DF) 15 mm TI 2x40 mm 40 kg/m3 EI Z/S 90/90 dvouvrstvá spodní kce CD+UD EI60DP1 | G144: m2 | H144: 26.076 | J144: =ROUND(I144*H144,2) -> 0 | N144: základní | P144: =O144*H144 -> 0 | Q144: 0.04893 | R144: =Q144*H144 -> 1.2758987 | S144: 0 | T144: =S144*H144 -> 0 | AR144: 16 | AT144: K | AU144: 2 | AY144: ROZPOCET | BE144: =IF(N144="základní",J144,0) -> 0 | BF144: =IF(N144="snížená",J144,0) -> 0 | BG144: =IF(N144="zákl. přenesená",J144,0) -> 0 | BH144: =IF(N144="sníž. přenesená",J144,0) -> 0 | BI144: =IF(N144="nulová",J144,0) -> 0 | BJ144: 1 | BK144: =ROUND(I144*H144,2) -> 0 | BL144: 16 | BM144: 655672412
D145: VV | F145: 3,28*7,95 | H145: 26.076 | AT145: VV | AU145: 2 | AV145: 2 | AW145: True | AX145: 1 | AY145: ROZPOCET
C146: 10 | D146: K | E146: 763172354 | F146: Montáž dvířek revizních jednoplášťových SDK kcí vel. 500 x 500 mm pro podhledy | G146: kus | H146: 8 | J146: =ROUND(I146*H146,2) -> 0 | K146: CS ÚRS 2026 01 | N146: základní | P146: =O146*H146 -> 0 | Q146: 3e-05 | R146: =Q146*H146 -> 0.00024 | S146: 0 | T146: =S146*H146 -> 0 | AR146: 16 | AT146: K | AU146: 2 | AY146: ROZPOCET | BE146: =IF(N146="základní",J146,0) -> 0 | BF146: =IF(N146="snížená",J146,0) -> 0 | BG146: =IF(N146="zákl. přenesená",J146,0) -> 0 | BH146: =IF(N146="sníž. přenesená",J146,0) -> 0 | BI146: =IF(N146="nulová",J146,0) -> 0 | BJ146: 1 | BK146: =ROUND(I146*H146,2) -> 0 | BL146: 16 | BM146: 1892943832
C147: 11 | D147: M | E147: 59030762 | F147: dvířka revizní protipožární pro stěny a podhledy EI 60 500x500 mm | G147: kus | H147: 8 | J147: =ROUND(I147*H147,2) -> 0 | K147: CS ÚRS 2026 01 | N147: základní | P147: =O147*H147 -> 0 | Q147: 0.0102 | R147: =Q147*H147 -> 0.0816 | S147: 0 | T147: =S147*H147 -> 0 | AR147: 32 | AT147: M | AU147: 2 | AY147: ROZPOCET | BE147: =IF(N147="základní",J147,0) -> 0 | BF147: =IF(N147="snížená",J147,0) -> 0 | BG147: =IF(N147="zákl. přenesená",J147,0) -> 0 | BH147: =IF(N147="sníž. přenesená",J147,0) -> 0 | BI147: =IF(N147="nulová",J147,0) -> 0 | BJ147: 1 | BK147: =ROUND(I147*H147,2) -> 0 | BL147: 16 | BM147: 1372283856
C148: 12 | D148: K | E148: 998763412 | F148: Přesun hmot procentní pro konstrukce montované z desek s omezením mechanizace v objektech v přes 6 do 12 m | G148: % | J148: =ROUND(I148*H148,2) -> 0 | N148: základní | P148: =O148*H148 -> 0 | Q148: 0 | R148: =Q148*H148 -> 0 | S148: 0 | T148: =S148*H148 -> 0 | AR148: 16 | AT148: K | AU148: 2 | AY148: ROZPOCET | BE148: =IF(N148="základní",J148,0) -> 0 | BF148: =IF(N148="snížená",J148,0) -> 0 | BG148: =IF(N148="zákl. přenesená",J148,0) -> 0 | BH148: =IF(N148="sníž. přenesená",J148,0) -> 0 | BI148: =IF(N148="nulová",J148,0) -> 0 | BJ148: 1 | BK148: =ROUND(I148*H148,2) -> 0 | BL148: 16 | BM148: 305732382
D149: VV | F149: 1,358*10 'Přepočtené koeficientem množství | H149: 13.58 | AT149: VV | AU149: 2 | AV149: 2 | AW149: False | AX149: 1 | AY149: ROZPOCET
D150: D | E150: 766 | F150: Konstrukce truhlářské | J150: =BK150 -> 0 | P150: =SUM(P151:P173) -> 0 | R150: =SUM(R151:R173) -> 0.03690588 | T150: =SUM(T151:T173) -> 1.1742291 | AR150: 2 | AT150: D | AU150: 1 | AY150: ROZPOCET | BK150: =SUM(BK151:BK173) -> 0
C151: 13 | D151: K | E151: 7668258R1 | F151: Demontáž a zpětná montáž konstrukce pultu | G151: bm | H151: 7.97 | J151: =ROUND(I151*H151,2) -> 0 | N151: základní | P151: =O151*H151 -> 0 | Q151: 0 | R151: =Q151*H151 -> 0 | S151: 0.0881 | T151: =S151*H151 -> 0.702157 | AR151: 16 | AT151: K | AU151: 2 | AY151: ROZPOCET | BE151: =IF(N151="základní",J151,0) -> 0 | BF151: =IF(N151="snížená",J151,0) -> 0 | BG151: =IF(N151="zákl. přenesená",J151,0) -> 0 | BH151: =IF(N151="sníž. přenesená",J151,0) -> 0 | BI151: =IF(N151="nulová",J151,0) -> 0 | BJ151: 1 | BK151: =ROUND(I151*H151,2) -> 0 | BL151: 16 | BM151: 932395452
D152: VV | F152: 7,97 | H152: 7.97 | AT152: VV | AU152: 2 | AV152: 2 | AW152: True | AX152: 1 | AY152: ROZPOCET
C153: 14 | D153: K | E153: 766411811 | F153: Demontáž truhlářského obložení stěn z panelů plochy do 1,5 m2 | G153: m2 | H153: 5.522 | J153: =ROUND(I153*H153,2) -> 0 | K153: CS ÚRS 2026 01 | N153: základní | P153: =O153*H153 -> 0 | Q153: 0 | R153: =Q153*H153 -> 0 | S153: 0.02465 | T153: =S153*H153 -> 0.1361173 | AR153: 16 | AT153: K | AU153: 2 | AY153: ROZPOCET | BE153: =IF(N153="základní",J153,0) -> 0 | BF153: =IF(N153="snížená",J153,0) -> 0 | BG153: =IF(N153="zákl. přenesená",J153,0) -> 0 | BH153: =IF(N153="sníž. přenesená",J153,0) -> 0 | BI153: =IF(N153="nulová",J153,0) -> 0 | BJ153: 1 | BK153: =ROUND(I153*H153,2) -> 0 | BL153: 16 | BM153: -1742660909
D154: VV | F154: "demontáž DTD ostění" (0,63+0,80)*2,20 | H154: 3.146 | AT154: VV | AU154: 2 | AV154: 2 | AW154: True | AX154: 0 | AY154: ROZPOCET
D155: VV | F155: "demontáž DTD ostění" (0,63+0,45)*2,20 | H155: 2.376 | AT155: VV | AU155: 2 | AV155: 2 | AW155: True | AX155: 0 | AY155: ROZPOCET
D156: VV | F156: Součet | H156: 5.522 | AT156: VV | AU156: 2 | AV156: 4 | AW156: True | AX156: 1 | AY156: ROZPOCET
C157: 15 | D157: K | E157: 766421811 | F157: Demontáž truhlářského obložení podhledů z panelů plochy do 1,5 m2 | G157: m2 | H157: 13.629 | J157: =ROUND(I157*H157,2) -> 0 | K157: CS ÚRS 2026 01 | N157: základní | P157: =O157*H157 -> 0 | Q157: 0 | R157: =Q157*H157 -> 0 | S157: 0.02465 | T157: =S157*H157 -> 0.33595485 | AR157: 16 | AT157: K | AU157: 2 | AY157: ROZPOCET | BE157: =IF(N157="základní",J157,0) -> 0 | BF157: =IF(N157="snížená",J157,0) -> 0 | BG157: =IF(N157="zákl. přenesená",J157,0) -> 0 | BH157: =IF(N157="sníž. přenesená",J157,0) -> 0 | BI157: =IF(N157="nulová",J157,0) -> 0 | BJ157: 1 | BK157: =ROUND(I157*H157,2) -> 0 | BL157: 16 | BM157: -1192282751
D158: VV | F158: "demontáž DTD nadpraží" (0,38+0,63+0,70)*7,97 | H158: 13.629 | AT158: VV | AU158: 2 | AV158: 2 | AW158: True | AX158: 1 | AY158: ROZPOCET
C159: 16 | D159: K | E159: 766414231 | F159: Montáž obložení stěn pl do 5 m2 panely dýhovanými do 0,60 m2 | G159: m2 | H159: 5.522 | J159: =ROUND(I159*H159,2) -> 0 | K159: CS ÚRS 2026 01 | N159: základní | P159: =O159*H159 -> 0 | Q159: 0 | R159: =Q159*H159 -> 0 | S159: 0 | T159: =S159*H159 -> 0 | AR159: 16 | AT159: K | AU159: 2 | AY159: ROZPOCET | BE159: =IF(N159="základní",J159,0) -> 0 | BF159: =IF(N159="snížená",J159,0) -> 0 | BG159: =IF(N159="zákl. přenesená",J159,0) -> 0 | BH159: =IF(N159="sníž. přenesená",J159,0) -> 0 | BI159: =IF(N159="nulová",J159,0) -> 0 | BJ159: 1 | BK159: =ROUND(I159*H159,2) -> 0 | BL159: 16 | BM159: -559198453
C160: 17 | D160: M | E160: 60621132R | F160: DTD deska, totožná s původním materiálem | G160: m2 | H160: 1.215 | J160: =ROUND(I160*H160,2) -> 0 | N160: základní | P160: =O160*H160 -> 0 | Q160: 0.00876 | R160: =Q160*H160 -> 0.0106434 | S160: 0 | T160: =S160*H160 -> 0 | AR160: 32 | AT160: M | AU160: 2 | AY160: ROZPOCET | BE160: =IF(N160="základní",J160,0) -> 0 | BF160: =IF(N160="snížená",J160,0) -> 0 | BG160: =IF(N160="zákl. přenesená",J160,0) -> 0 | BH160: =IF(N160="sníž. přenesená",J160,0) -> 0 | BI160: =IF(N160="nulová",J160,0) -> 0 | BJ160: 1 | BK160: =ROUND(I160*H160,2) -> 0 | BL160: 16 | BM160: 1506154353
D161: VV | F161: Pozn.: předpoklad zpětného použití z 80% | AT161: VV | AU161: 2 | AV161: 1 | AW161: True | AX161: 0 | AY161: ROZPOCET
D162: VV | F162: "zpětná montáž DTD ostění" (0,63+0,80)*2,20 | H162: 3.146 | AT162: VV | AU162: 2 | AV162: 2 | AW162: True | AX162: 0 | AY162: ROZPOCET
D163: VV | F163: "zpětná montáž DTD ostění" (0,63+0,45)*2,20 | H163: 2.376 | AT163: VV | AU163: 2 | AV163: 2 | AW163: True | AX163: 0 | AY163: ROZPOCET
D164: VV | F164: Součet | H164: 5.522 | AT164: VV | AU164: 2 | AV164: 4 | AW164: True | AX164: 1 | AY164: ROZPOCET
D165: VV | F165: 5,522*0,22 'Přepočtené koeficientem množství | H165: 1.215 | AT165: VV | AU165: 2 | AV165: 2 | AW165: False | AX165: 1 | AY165: ROZPOCET
C166: 18 | D166: K | E166: 766422231 | F166: Montáž obložení podhledů jednoduchých panely dýhovanými do 0,60 m2 | G166: m2 | H166: 13.629 | J166: =ROUND(I166*H166,2) -> 0 | K166: CS ÚRS 2026 01 | N166: základní | P166: =O166*H166 -> 0 | Q166: 0 | R166: =Q166*H166 -> 0 | S166: 0 | T166: =S166*H166 -> 0 | AR166: 16 | AT166: K | AU166: 2 | AY166: ROZPOCET | BE166: =IF(N166="základní",J166,0) -> 0 | BF166: =IF(N166="snížená",J166,0) -> 0 | BG166: =IF(N166="zákl. přenesená",J166,0) -> 0 | BH166: =IF(N166="sníž. přenesená",J166,0) -> 0 | BI166: =IF(N166="nulová",J166,0) -> 0 | BJ166: 1 | BK166: =ROUND(I166*H166,2) -> 0 | BL166: 16 | BM166: 329358966
...

Sheet Odstranění azbestu
A1: Kód položky | B1: Popis | C1: MJ | D1: Množství | E1: J. cena indexovaná | F1: Celková cena bez DPH
B2: Kontrolované pásmo | F2: =F3+F5+F6+F8+F10+F12 -> 0
A3: Pol1 | B3: Montáž KP | C3: KP | D3: 3 | F3: =E3*D3 -> 0
B4: vybudování uzavřeného kontrolovaného pásma
A5: Pol2 | B5: Demontáž KP | C5: KP | D5: 3 | F5: =E5*D5 -> 0
A6: Pol3 | B6: Provoz KP | C6: KP | D6: 3 | F6: =E6*D6 -> 0
B7: instalace a dodávka odsávacích jednotek se zvýšenou kapacitou (pro zvýšení přilnavosti konstrukce KP ke objektu)
A8: Pol4 | B8: Monitoring podtlaku v KP | C8: soubor | D8: 3 | F8: =E8*D8 -> 0
B9: monitoring podtlaku v každém KP (není požadováno stacionární měření)
A10: Pol5 | B10: HEPA filtr k odsávacím jednotkám | C10: soubor | D10: 3 | F10: =E10*D10 -> 0
B11: set HEPA filtračních jednotek do odsávacího zařízení
A12: Pol6 | B12: Předfiltr G4 | C12: kpl | D12: 3 | F12: =E12*D12 -> 0
B13: set G4 filtračních jednotek do odsávacího zařízení
B14: Personální propusť | F14: =F15+F17+F19+F20 -> 0
A15: Pol7 | B15: Montáž 3-komorové personální propusti | C15: soubor | D15: 3 | F15: =E15*D15 -> 0
B16: jednorázová dekontaminační komora z lehké konstrukce potažena PE plachtou
A17: Pol8 | B17: Provoz 3-komorové personální propusti | C17: KP | D17: 3 | F17: =E17*D17 -> 0
B18: instalace a dodávka odsávacích jednotek pro personální propust
A19: Pol9 | B19: Demontáž 3-komorové personální propusti | C19: soubor | D19: 3 | F19: =E19*D19 -> 0
A20: Pol10 | B20: Dekontaminační prostředky osobní hygieny | C20: KP | D20: 3 | F20: =E20*D20 -> 0
B21: jednorázové utěrky, mýdlo, šampón, voda
B22: Materiálová propusť | F22: =F23+F25+F27 -> 0
A23: Pol11 | B23: Montáž 2-komorové materiálové propusti | C23: soubor | D23: 3 | F23: =E23*D23 -> 0
B24: lehká stavitelná konstrukce (kov nebo dřevo); plachty z PE, těsnící materiál
A25: Pol12 | B25: Provoz 2-komorové materiálové propusti | C25: KP | D25: 3 | F25: =E25*D25 -> 0
B26: instalace a dodávka odsávacích jednotek
A27: Pol13 | B27: Demontáž 2-komorové materiálové propusti | C27: soubor | D27: 3 | F27: =E27*D27 -> 0
B28: Odstranění materiálů s obsahem azbestu | F28: =F29+F31+F33+F36 -> 0
A29: Pol15 | B29: Vybourání a demontáž materiálů s obsahem azbestu | C29: m2 | D29: 69.2 | F29: =E29*D29 -> 0
A31: Pol16 | B31: Enkapsulační stabilizace a balení odpadů | C31: m2 | D31: 69.2 | F31: =D31*E31 -> 0
B32: průběžný enkapsulační postřik demontovaných materiálů přípravkem Foster 3260, balení odpadů do neprodyšných PE obalů, dekontaminace obalů v materiálové propusti
A33: Pol17 | B33: Vysátí konstrukcí vysavači třídy H13 se sběrnými sáčky | C33: m2 | D33: 69.2 | F33: =D33*E33 -> 0
B34: vysátí stávajících stavebních konstrukcí vysavači třídy H13 se sběrnými sáčky
B35: Likvidace odpadu
A36: Pol18 | B36: Transport a uložení odpadu kat.č. 17 06 05 na skládce nebezpečných odpadů | C36: m2 | D36: 69.2 | F36: =E36*D36 -> 0
B37: Ochrana pracovníku při práci, příprava | F37: =F38 -> 0
A38: Pol19 | B38: OOPP | C38: KP | D38: 1 | F38: =E38*D38 -> 0
B39: polomasky s P3 filtrem, Overal kat. č.3 typ 5, rukavice, ochranné brýle
B40: Ostatní náklady | F40: =F41+F43+F45 -> 0
A41: Pol20 | B41: Měření koncentrace respirabilních azbestových a minerálních vláken po ukončení prací před zrušením, kontrolovaného pásma | C41: měření | D41: 6 | F41: =E41*D41 -> 0
B42: Měření respirabilní polétavé azbestové frakce v prostoru kontrolovaného pásma po ukončení prací každe KP 1 měrení
A43: Pol21 | B43: Sanace používaného technologického vybavení | C43: soubor | D43: 1 | F43: =D43*E43 -> 0
B44: kompletní dekontaminace filtrační a odsávací techniky a použité měchanizace po ukončení prací
A45: Pol22 | B45: Zařízení staveniště, zrušení staveniště | C45: soubor | D45: 1 | F45: =E45*D45 -> 0
B47: Celkem bez DPH | F47: =F40+F37+F28+F22+F14+F2 -> 0
