Workbook

Sheet Rekapitulace stavby
A1: Export Komplet | BA1: 2.0 | BB1: ZAMOK | BT1: False | BU1: False | BV1: {17fbd3bf-fa97-44ed-bd4b-fe8f12aaae32}
BS2: 0,01 | BT2: 21
BS3: 0,01 | BT3: 15
D4: REKAPITULACE STAVBY | AS4: v --- níže se nacházejí doplnkové a pomocné údaje k sestavám --- v | BE4: Návod na vyplnění | BS4: 0,001
D5: Kód: | K5: 2026_013 | BE5: Měnit lze pouze buňky se žlutým podbarvením!_x000D_ _x000D_ 1) na prvním listu Rekapitulace stavby vyplňte v sestavě_x000D_ _x000D_ a) Souhrnný list_x000D_ - údaje o Uchazeči_x000D_ (přenesou se do ostatních sestav i v jiných listech)_x000D_ _x000D_ b) Rekapitulace objektů_x000D_ - potřebné Ostatní náklady_x000D_ _x000D_ 2) na vybraných listech vyplňte v sestavě_x000D_ _x000D_ a) Krycí list_x000D_ - údaje o Uchazeči, pokud se liší od údajů o Uchazeči na Souhrnném listu_x000D_ (údaje se přenesou do ostatních sestav v daném listu)_x000D_ _x000D_ b) Rekapitulace rozpočtu_x000D_ - potřebné Ostatní náklady_x000D_ _x000D_ c) Celkové náklady za stavbu_x000D_ - ceny u položek_x000D_ - množství, pokud má žluté podbarvení_x000D_ - a v případě potřeby poznámku (ta je ve skrytém sloupci) | BS5: 0,01
D6: Stavba: | K6: Kongresové centrum - Úprava šaten | BS6: 0,01
D7: KSO: | AK7: CC-CZ: | BS7: 0,01
D8: Místo: | K8: Praha 4 | AK8: Datum: | AN8: 46155 | BS8: 0,01
BS9: 0,01
D10: Zadavatel: | AK10: IČ: | BS10: 0,01
AK11: DIČ: | BS11: 0,01
BS12: 0,01
D13: Uchazeč: | AK13: IČ: | AN13: Vyplň údaj | BS13: 0,01
E14: Vyplň údaj | AK14: DIČ: | AN14: Vyplň údaj | BS14: 0,01
BS15: False
D16: Projektant: | AK16: IČ: | BS16: False
E17: OMEGAproject, s.r.o. | AK17: DIČ: | BS17: True
BS18: 0,01
D19: Zpracovatel: | AK19: IČ: | BS19: 0,01
E20: Vít Včeliš, 724538658, vitvcelis@seznam.cz | AK20: DIČ: | BS20: True
D22: Poznámka:
D26: Cena bez DPH | AK26: =ROUND(AG94,2) -> 0
L28: Sazba daně | W28: Základ daně | AK28: Výše daně
D29: DPH | F29: základní | L29: 0.21 | W29: =ROUND(AZ94, 2) -> 0 | AK29: =ROUND(AV94, 2) -> 0
F30: snížená | L30: 0.15 | W30: =ROUND(BA94, 2) -> 0 | AK30: =ROUND(AW94, 2) -> 0
F31: zákl. přenesená | L31: 0.21 | W31: =ROUND(BB94, 2) -> 0 | AK31: 0
F32: sníž. přenesená | L32: 0.15 | W32: =ROUND(BC94, 2) -> 0 | AK32: 0
F33: nulová | L33: 0 | W33: =ROUND(BD94, 2) -> 0 | AK33: 0
D35: Cena s DPH | T35: v | X35: CZK | AK35: =SUM(AK26:AK33) -> 0
D49: Projektant | AH49: Zpracovatel
D60: Datum a podpis: | V60: Razítko | AH60: Datum a podpis: | AM60: Razítko
D64: Objednavatel | AH64: Uchazeč
D75: Datum a podpis: | V75: Razítko | AH75: Datum a podpis: | AM75: Razítko
C82: REKAPITULACE OBJEKTŮ STAVBY A SOUPISŮ PRACÍ
C84: Kód: | L84: =K5 -> 2026_013
C85: Stavba: | L85: =K6 -> Kongresové centrum - Úprava šaten
C87: Místo: | L87: =IF(K8="","",K8) -> Praha 4 | AI87: Datum: | AM87: =IF(AN8= "","",AN8) -> 46155
C89: Zadavatel: | L89: =IF(E11= "","",E11) | AI89: Projektant: | AM89: =IF(E17="","",E17) -> OMEGAproject, s.r.o. | AS89: Informatívní údaje z listů zakázek
C90: Uchazeč: | L90: =IF(E14= "Vyplň údaj","",E14) | AI90: Zpracovatel: | AM90: =IF(E20="","",E20) -> Vít Včeliš, 724538658, vitvcelis@seznam.cz
C92: Kód | I92: Popis | AG92: Cena bez DPH [CZK] | AN92: Cena s DPH [CZK] | AQ92: Typ | AS92: z toho Ostat._x000D_ náklady [CZK] | AT92: DPH [CZK] | AU92: Normohodiny [h] | AV92: DPH základní [CZK] | AW92: DPH snížená [CZK] | AX92: DPH základní přenesená_x000D_ [CZK] | AY92: DPH snížená přenesená_x000D_ [CZK] | AZ92: Základna_x000D_ DPH základní | BA92: Základna_x000D_ DPH snížená | BB92: Základna_x000D_ DPH zákl. přenesená | BC92: Základna_x000D_ DPH sníž. přenesená | BD92: Základna_x000D_ DPH nulová
...

Sheet SO-01.A - Architektonické...
AT2: {a0d3cb4c-c407-491d-ac05-56ff04110522}
AT3: 2
D4: KRYCÍ LIST SOUPISU PRACÍ | M4: v --- níže se nacházejí doplnkové a pomocné údaje k sestavám --- v | AT4: False
D6: Stavba:
E7: ='Rekapitulace stavby'!K6 -> Kongresové centrum - Úprava šaten
D8: Objekt:
E9: SO-01.A - Architektonické a stavební řešení - šatna A
D11: KSO: | I11: CC-CZ:
D12: Místo: | F12: Praha 4 | I12: Datum: | J12: ='Rekapitulace stavby'!AN8 -> 46155
D14: Zadavatel: | I14: IČ: | J14: =IF('Rekapitulace stavby'!AN10="","",'Rekapitulace stavby'!AN10)
E15: =IF('Rekapitulace stavby'!E11="","",'Rekapitulace stavby'!E11) | I15: DIČ: | J15: =IF('Rekapitulace stavby'!AN11="","",'Rekapitulace stavby'!AN11)
D17: Uchazeč: | I17: IČ: | J17: ='Rekapitulace stavby'!AN13 -> Vyplň údaj
E18: ='Rekapitulace stavby'!E14 -> Vyplň údaj | I18: DIČ: | J18: ='Rekapitulace stavby'!AN14 -> Vyplň údaj
D20: Projektant: | I20: IČ:
E21: OMEGAproject, s.r.o. | I21: DIČ:
D23: Zpracovatel: | I23: IČ:
E24: Vít Včeliš, 724538658, vitvcelis@seznam.cz | I24: DIČ:
D26: Poznámka:
D30: Cena bez DPH | J30: =ROUND(J130, 2) -> 0
F32: Základ daně | I32: Sazba daně | J32: Výše daně
D33: DPH | E33: základní | F33: =ROUND((SUM(BE130:BE251)), 2) -> 0 | I33: 0.21 | J33: =ROUND(((SUM(BE130:BE251))*I33), 2) -> 0
E34: snížená | F34: =ROUND((SUM(BF130:BF251)), 2) -> 0 | I34: 0.15 | J34: =ROUND(((SUM(BF130:BF251))*I34), 2) -> 0
E35: zákl. přenesená | F35: =ROUND((SUM(BG130:BG251)), 2) -> 0 | I35: 0.21 | J35: =0 -> 0
E36: sníž. přenesená | F36: =ROUND((SUM(BH130:BH251)), 2) -> 0 | I36: 0.15 | J36: =0 -> 0
E37: nulová | F37: =ROUND((SUM(BI130:BI251)), 2) -> 0 | I37: 0 | J37: =0 -> 0
D39: Cena s DPH | G39: v | H39: CZK | J39: =SUM(J30:J37) -> 0
D50: Projektant | G50: Zpracovatel
D61: Datum a podpis: | F61: Razítko | G61: Datum a podpis: | J61: Razítko
D65: Objednavatel | G65: Uchazeč
D76: Datum a podpis: | F76: Razítko | G76: Datum a podpis: | J76: Razítko
C82: REKAPITULACE ČLENĚNÍ SOUPISU PRACÍ
C84: Stavba:
E85: =E7 -> Kongresové centrum - Úprava šaten
C86: Objekt:
E87: =E9 -> SO-01.A - Architektonické a stavební řešení - šatna A
C89: Místo: | F89: =F12 -> Praha 4 | I89: Datum: | J89: =IF(J12="","",J12) -> 46155
C91: Zadavatel: | F91: =E15 | I91: Projektant: | J91: =E21 -> OMEGAproject, s.r.o.
C92: Uchazeč: | F92: =IF(E18="","",E18) -> Vyplň údaj | I92: Zpracovatel: | J92: =E24 -> Vít Včeliš, 724538658, vitvcelis@seznam.cz
C94: Kód dílu - Popis | J94: Cena celkem [CZK]
C96: Náklady ze soupisu prací | J96: =J130 -> 0 | AU96: -1
...

Sheet SO-01.B - Architektonické...
AT2: {3d505684-038d-4091-9079-d5f80cda9b41}
AT3: 2
D4: KRYCÍ LIST SOUPISU PRACÍ | M4: v --- níže se nacházejí doplnkové a pomocné údaje k sestavám --- v | AT4: False
D6: Stavba:
E7: ='Rekapitulace stavby'!K6 -> Kongresové centrum - Úprava šaten
D8: Objekt:
E9: SO-01.B - Architektonické a stavební řešení - šatna B
D11: KSO: | I11: CC-CZ:
D12: Místo: | F12: Praha 4 | I12: Datum: | J12: ='Rekapitulace stavby'!AN8 -> 46155
D14: Zadavatel: | I14: IČ: | J14: =IF('Rekapitulace stavby'!AN10="","",'Rekapitulace stavby'!AN10)
E15: =IF('Rekapitulace stavby'!E11="","",'Rekapitulace stavby'!E11) | I15: DIČ: | J15: =IF('Rekapitulace stavby'!AN11="","",'Rekapitulace stavby'!AN11)
D17: Uchazeč: | I17: IČ: | J17: ='Rekapitulace stavby'!AN13 -> Vyplň údaj
E18: ='Rekapitulace stavby'!E14 -> Vyplň údaj | I18: DIČ: | J18: ='Rekapitulace stavby'!AN14 -> Vyplň údaj
D20: Projektant: | I20: IČ:
E21: OMEGAproject, s.r.o. | I21: DIČ:
D23: Zpracovatel: | I23: IČ:
E24: Vít Včeliš, 724538658, vitvcelis@seznam.cz | I24: DIČ:
D26: Poznámka:
D30: Cena bez DPH | J30: =ROUND(J128, 2) -> 0
F32: Základ daně | I32: Sazba daně | J32: Výše daně
D33: DPH | E33: základní | F33: =ROUND((SUM(BE128:BE212)), 2) -> 0 | I33: 0.21 | J33: =ROUND(((SUM(BE128:BE212))*I33), 2) -> 0
E34: snížená | F34: =ROUND((SUM(BF128:BF212)), 2) -> 0 | I34: 0.15 | J34: =ROUND(((SUM(BF128:BF212))*I34), 2) -> 0
E35: zákl. přenesená | F35: =ROUND((SUM(BG128:BG212)), 2) -> 0 | I35: 0.21 | J35: =0 -> 0
E36: sníž. přenesená | F36: =ROUND((SUM(BH128:BH212)), 2) -> 0 | I36: 0.15 | J36: =0 -> 0
E37: nulová | F37: =ROUND((SUM(BI128:BI212)), 2) -> 0 | I37: 0 | J37: =0 -> 0
D39: Cena s DPH | G39: v | H39: CZK | J39: =SUM(J30:J37) -> 0
D50: Projektant | G50: Zpracovatel
D61: Datum a podpis: | F61: Razítko | G61: Datum a podpis: | J61: Razítko
D65: Objednavatel | G65: Uchazeč
D76: Datum a podpis: | F76: Razítko | G76: Datum a podpis: | J76: Razítko
C82: REKAPITULACE ČLENĚNÍ SOUPISU PRACÍ
C84: Stavba:
E85: =E7 -> Kongresové centrum - Úprava šaten
C86: Objekt:
E87: =E9 -> SO-01.B - Architektonické a stavební řešení - šatna B
C89: Místo: | F89: =F12 -> Praha 4 | I89: Datum: | J89: =IF(J12="","",J12) -> 46155
C91: Zadavatel: | F91: =E15 | I91: Projektant: | J91: =E21 -> OMEGAproject, s.r.o.
C92: Uchazeč: | F92: =IF(E18="","",E18) -> Vyplň údaj | I92: Zpracovatel: | J92: =E24 -> Vít Včeliš, 724538658, vitvcelis@seznam.cz
C94: Kód dílu - Popis | J94: Cena celkem [CZK]
C96: Náklady ze soupisu prací | J96: =J128 -> 0 | AU96: -1
...

Sheet SO-01.C - Architektonické...
AT2: {94d2cd69-58ec-4f8b-a70a-ab28b99518a1}
AT3: 2
D4: KRYCÍ LIST SOUPISU PRACÍ | M4: v --- níže se nacházejí doplnkové a pomocné údaje k sestavám --- v | AT4: False
D6: Stavba:
E7: ='Rekapitulace stavby'!K6 -> Kongresové centrum - Úprava šaten
D8: Objekt:
E9: SO-01.C - Architektonické a stavební řešení - šatna C
D11: KSO: | I11: CC-CZ:
D12: Místo: | F12: Praha 4 | I12: Datum: | J12: ='Rekapitulace stavby'!AN8 -> 46155
D14: Zadavatel: | I14: IČ: | J14: =IF('Rekapitulace stavby'!AN10="","",'Rekapitulace stavby'!AN10)
E15: =IF('Rekapitulace stavby'!E11="","",'Rekapitulace stavby'!E11) | I15: DIČ: | J15: =IF('Rekapitulace stavby'!AN11="","",'Rekapitulace stavby'!AN11)
D17: Uchazeč: | I17: IČ: | J17: ='Rekapitulace stavby'!AN13 -> Vyplň údaj
E18: ='Rekapitulace stavby'!E14 -> Vyplň údaj | I18: DIČ: | J18: ='Rekapitulace stavby'!AN14 -> Vyplň údaj
D20: Projektant: | I20: IČ:
E21: OMEGAproject, s.r.o. | I21: DIČ:
D23: Zpracovatel: | I23: IČ:
E24: Vít Včeliš, 724538658, vitvcelis@seznam.cz | I24: DIČ:
D26: Poznámka:
D30: Cena bez DPH | J30: =ROUND(J128, 2) -> 0
F32: Základ daně | I32: Sazba daně | J32: Výše daně
D33: DPH | E33: základní | F33: =ROUND((SUM(BE128:BE211)), 2) -> 0 | I33: 0.21 | J33: =ROUND(((SUM(BE128:BE211))*I33), 2) -> 0
E34: snížená | F34: =ROUND((SUM(BF128:BF211)), 2) -> 0 | I34: 0.15 | J34: =ROUND(((SUM(BF128:BF211))*I34), 2) -> 0
E35: zákl. přenesená | F35: =ROUND((SUM(BG128:BG211)), 2) -> 0 | I35: 0.21 | J35: =0 -> 0
E36: sníž. přenesená | F36: =ROUND((SUM(BH128:BH211)), 2) -> 0 | I36: 0.15 | J36: =0 -> 0
E37: nulová | F37: =ROUND((SUM(BI128:BI211)), 2) -> 0 | I37: 0 | J37: =0 -> 0
D39: Cena s DPH | G39: v | H39: CZK | J39: =SUM(J30:J37) -> 0
D50: Projektant | G50: Zpracovatel
D61: Datum a podpis: | F61: Razítko | G61: Datum a podpis: | J61: Razítko
D65: Objednavatel | G65: Uchazeč
D76: Datum a podpis: | F76: Razítko | G76: Datum a podpis: | J76: Razítko
C82: REKAPITULACE ČLENĚNÍ SOUPISU PRACÍ
C84: Stavba:
E85: =E7 -> Kongresové centrum - Úprava šaten
C86: Objekt:
E87: =E9 -> SO-01.C - Architektonické a stavební řešení - šatna C
C89: Místo: | F89: =F12 -> Praha 4 | I89: Datum: | J89: =IF(J12="","",J12) -> 46155
C91: Zadavatel: | F91: =E15 | I91: Projektant: | J91: =E21 -> OMEGAproject, s.r.o.
C92: Uchazeč: | F92: =IF(E18="","",E18) -> Vyplň údaj | I92: Zpracovatel: | J92: =E24 -> Vít Včeliš, 724538658, vitvcelis@seznam.cz
C94: Kód dílu - Popis | J94: Cena celkem [CZK]
C96: Náklady ze soupisu prací | J96: =J128 -> 0 | AU96: -1
...

Sheet Odstranění azbestu
A1: Kód položky | B1: Popis | C1: MJ | D1: Množství | E1: J. cena indexovaná | F1: Celková cena bez DPH
B2: Kontrolované pásmo | F2: =F3+F5+F6+F8+F10+F12 -> 0
A3: Pol1 | B3: Montáž KP | C3: KP | D3: 3 | F3: =E3*D3 -> 0
B4: vybudování uzavřeného kontrolovaného pásma
A5: Pol2 | B5: Demontáž KP | C5: KP | D5: 3 | F5: =E5*D5 -> 0
A6: Pol3 | B6: Provoz KP | C6: KP | D6: 3 | F6: =E6*D6 -> 0
B7: instalace a dodávka odsávacích jednotek se zvýšenou kapacitou (pro zvýšení přilnavosti konstrukce KP ke objektu)
A8: Pol4 | B8: Monitoring podtlaku v KP | C8: soubor | D8: 3 | F8: =E8*D8 -> 0
B9: monitoring podtlaku v každém KP (není požadováno stacionární měření)
A10: Pol5 | B10: HEPA filtr k odsávacím jednotkám | C10: soubor | D10: 3 | F10: =E10*D10 -> 0
B11: set HEPA filtračních jednotek do odsávacího zařízení
A12: Pol6 | B12: Předfiltr G4 | C12: kpl | D12: 3 | F12: =E12*D12 -> 0
B13: set G4 filtračních jednotek do odsávacího zařízení
B14: Personální propusť | F14: =F15+F17+F19+F20 -> 0
A15: Pol7 | B15: Montáž 3-komorové personální propusti | C15: soubor | D15: 3 | F15: =E15*D15 -> 0
B16: jednorázová dekontaminační komora z lehké konstrukce potažena PE plachtou
A17: Pol8 | B17: Provoz 3-komorové personální propusti | C17: KP | D17: 3 | F17: =E17*D17 -> 0
B18: instalace a dodávka odsávacích jednotek pro personální propust
A19: Pol9 | B19: Demontáž 3-komorové personální propusti | C19: soubor | D19: 3 | F19: =E19*D19 -> 0
A20: Pol10 | B20: Dekontaminační prostředky osobní hygieny | C20: KP | D20: 3 | F20: =E20*D20 -> 0
B21: jednorázové utěrky, mýdlo, šampón, voda
B22: Materiálová propusť | F22: =F23+F25+F27 -> 0
A23: Pol11 | B23: Montáž 2-komorové materiálové propusti | C23: soubor | D23: 3 | F23: =E23*D23 -> 0
B24: lehká stavitelná konstrukce (kov nebo dřevo); plachty z PE, těsnící materiál
A25: Pol12 | B25: Provoz 2-komorové materiálové propusti | C25: KP | D25: 3 | F25: =E25*D25 -> 0
B26: instalace a dodávka odsávacích jednotek
A27: Pol13 | B27: Demontáž 2-komorové materiálové propusti | C27: soubor | D27: 3 | F27: =E27*D27 -> 0
B28: Odstranění materiálů s obsahem azbestu | F28: =F29+F31+F33+F36 -> 0
A29: Pol15 | B29: Vybourání a demontáž materiálů s obsahem azbestu | C29: m2 | D29: 69.2 | F29: =E29*D29 -> 0
A31: Pol16 | B31: Enkapsulační stabilizace a balení odpadů | C31: m2 | D31: 69.2 | F31: =D31*E31 -> 0
B32: průběžný enkapsulační postřik demontovaných materiálů přípravkem Foster 3260, balení odpadů do neprodyšných PE obalů, dekontaminace obalů v materiálové propusti
A33: Pol17 | B33: Vysátí konstrukcí vysavači třídy H13 se sběrnými sáčky | C33: m2 | D33: 69.2 | F33: =D33*E33 -> 0
B34: vysátí stávajících stavebních konstrukcí vysavači třídy H13 se sběrnými sáčky
B35: Likvidace odpadu
A36: Pol18 | B36: Transport a uložení odpadu kat.č. 17 06 05 na skládce nebezpečných odpadů | C36: m2 | D36: 69.2 | F36: =E36*D36 -> 0
B37: Ochrana pracovníku při práci, příprava | F37: =F38 -> 0
A38: Pol19 | B38: OOPP | C38: KP | D38: 1 | F38: =E38*D38 -> 0
B39: polomasky s P3 filtrem, Overal kat. č.3 typ 5, rukavice, ochranné brýle
B40: Ostatní náklady | F40: =F41+F43+F45 -> 0
A41: Pol20 | B41: Měření koncentrace respirabilních azbestových a minerálních vláken po ukončení prací před zrušením, kontrolovaného pásma | C41: měření | D41: 6 | F41: =E41*D41 -> 0
...
